{"text_format":"1","workbook":"xlsx","n_sheets":6,"sheets":["калькулятор","список","Лист1","форма заказа","распил","вставка"],"not_rendered":{"charts":0,"images":25,"macros":1,"external_links":0,"defined_names":50,"comments":2,"pivot_tables":0},"unopened":[],"bounds":{"document_bytes":16777216,"sheet_cells":100000,"rows_first":2000,"rows_last":500,"rows_between":2000,"halvings":0,"cell_chars":16384,"cell_head_chars":4096},"cells_cut":0,"cells_raw":0,"read":"whole","date_system":"1900"}

{"sheet":"калькулятор","index":0,"n_rows":44,"n_cols":87,"rows_kept":44,"cut":false,"hidden":false,"merged":[[10,3,10,4],[16,3,16,4],[17,3,17,4],[20,55,21,55],[20,45,21,45],[20,46,21,46],[20,47,21,47],[20,48,21,48],[20,49,21,49],[12,28,13,28],[12,29,13,29],[12,25,13,25],[12,26,13,26],[20,32,21,32],[11,21,12,21],[14,12,14,13],[20,56,21,56],[20,57,21,57],[20,50,21,50],[20,51,21,51],[20,52,21,52],[20,53,21,53],[20,54,21,54],[39,3,39,11],[4,21,7,21],[11,3,11,4],[12,3,12,4],[20,8,21,8],[20,10,21,10],[20,15,21,15],[9,3,9,4],[5,3,6,4],[15,3,15,4],[15,12,16,13],[18,12,18,13],[19,3,19,29],[9,27,10,27],[9,28,10,28],[9,29,10,29],[39,13,39,19],[15,31,16,31],[15,25,16,25],[15,26,16,26],[15,27,16,27],[15,28,16,28],[15,29,16,29],[15,30,16,30],[17,12,17,13],[20,31,21,31],[8,12,8,13],[9,25,10,25],[9,26,10,26],[6,29,7,29],[1,3,1,4],[6,25,7,25],[6,26,7,26],[3,12,3,13],[1,25,1,31],[6,27,7,27],[6,28,7,28],[3,25,4,25],[3,26,4,26],[3,27,4,27],[3,28,4,28],[3,30,4,30],[3,31,4,31],[6,31,7,31],[9,31,10,31],[12,31,13,31],[6,30,7,30],[9,30,10,30],[12,30,13,30],[12,27,13,27],[20,1,21,1],[20,27,21,27],[20,12,20,13],[20,17,21,17],[20,19,21,19],[20,21,21,21],[20,23,21,23],[20,25,21,25],[20,3,20,4],[20,6,21,6],[14,3,14,4]]}
[]
[null,null,null,"Фасад из экокожи",null,null,null,null,null,null,null,null,null,null,null,null,null,null,null,null,null,null,null,null,null,"ПАЛИТРА ЦВЕТОВ ЭКОКОЖИ"]
[]
[null,null,null,null,null,null,null,null,null,null,null,null,"Расположение присадок:",null,null,"Закладная",null,"стандартная"]
[null,null,null,null,null,null,null,null,null,null,null,null,null,null,null,"необходима ",null,"вставка",null,null,null,"укажите название цвета из палитры экокожи",null,null,null,null,null,null,null,null,null,null,null," "]
[null,null,null,"по техническим вопросам обращайтесь: +7 962 923 18 58",null,null,null,null,null,null,null,null,null,null,null,"для крепления",null,"единым"]
[null,null,null,null,null,null,null,null,null,null,null,null,null,null,null,"к фасаду",null,"полотном"]
[null,null,null,null,null,null,null,null,null,null,null,null,null,null,null,"встроенной"]
[null,null,null,"Минимальная",null,null,null,null,null,null,null,null,null,null,null,"техники,"]
[null,null,null,"высота/ширина фасада:",null,null,null,null,null,null,null,null,null,null,null,"выдвижных"]
[null,null,null,"прямой - 126,5 мм; ",null,null,null,null,null,null,null,null,null,null,null,"систем, ручек",null,"комбинированная ",null,"Если",null,null,null,"Декоративный"]
[null,null,null,"скрытая ручка - 136 мм; ",null,null,null,null,null,null,null,null,null,null,null,null,null,"вставка",null,"планируете",null,null,null,"шов по"]
[null,null,null,"c высокой ручкой - 163 мм",null,null,null,null,null,null,null,null,null,null,null,"Установка",null,"составляется ",null,"устанавливать",null,null,null,"периметру"]
[null,null,null,null,null,null,null,null,null,null,null,null,null,null,null,"закладной",null,"из нескольких",null,"фасад в",null,"оборотная",null,"фасада с"]
[null,null,null,"Толщина фасада - 22,9 мм",null,null,null,null,null,null,"А слева",null,null,null,null,"возможна",null,"вставок",null,"помещении с",null,"сторона из",null,"лицевой"]
[null,null,null,null,null,null,null,null,null,null,"B сверху",null,"ограничения \nпо присадкам:",null,null,"только",null,null,null,"повышенной",null,"экокожи того",null,"стороны"]
[null,null,null,"Максимальная высота: 2 990 мм",null,null,null,null,null,null,"С справа",null,null,null,null,"на стадии",null,"посмотреть",null,"влажностью",null,"же цвета",null,"на расстоянии"]
[null,null,null,"Максимальная ширина: 850 мм",null,null,null,null,null,null,"D снизу",null,"ширина до 600 мм",null,null,"изготовления",null,null,null,"выберите да",null,"без прошивки",null,"8 мм от края",null,null,null,null,null,null,null,null,null,null,null,null,null,null,null,null,null,null,null,null,null,null,null,null,null,null,null,null,null,null,null,null,null,null,null,null,null,null,null,15000]
[null,null,null,null,null,null,null,null,"посмотреть",null,null,null,null,null,null,"фасада",null,null,null,null,null,null,null,null,null,null,null,null,null,null,null,null,null,null,null,null,null,null,null,null,null,null,null,null,null,null,null,null,null,null,null,null,null,null,null,null,null,null,null,null,null,null,null,31000,null,null,null,null,null,null,null,null,null,5000]
[null,null,null,"Если у вас не сформировалась цена, значит введены нестандартные параметры. Необходима консультация технолога для уточнения возможности изготовления и индивидуального расчета стоимости фасада."]
[null,"№",null,"1.Размеры фасада, мм",null,null,"2.Цвет профиля",null,"3.Тип профиля для рамки",null,"4.Высокая ручка (расположение)",null,"5.Присадки под петли Ø 35 мм (Blum, Hettich, FGV)",null,null,"6.Наличие закладной",null,"7.Вставка из экокожи",null,"8. Помещение",null,"9.Цвет экокожи",null,"10.Цвет нитки для прошивки",null,"11. Кол-во фасадов",null,"Цена",null,"Цена со скидкой",null,"Артикул","Наименование",null,null,null,null,null,null,null,null,null,null,null,null,"высота(мин высота тип/профиля)","ширина (мин ширина/тип профиля)","тип профиля (мин размеры /тип профиля)","профиль/ручка","высота/фасад","ширина/фасад","закладная/вставка","помещение/вставка","цвет/вставка","прошивка/вставка","высота(станд вставка)","ширина(станд вставка)","ручка/фасад",null,null,null,null,null,37200,3500,900,null,150,400,200,null,3000,null,10000,2500,0.1]
[null,null,null,"высота","ширина",null,null,null,null,null,null,null,"фасад","кол-во",null,null,null,null,null,null,null,null,null,null,null,null,null,null,null,null,null,null,null,null,"выс","шир","цвет","проф","ручка","вставка","кол-во",null,"итого",null,null,null,null,null,null,null,null,null,null,null,null,null,null,null,null,null,null,"площ","периметр","рамка","другой цвет профиля","закл","влажн","прис","картон","пенолин","цвет другой кожи","<1000","шир>950","станд вставка высота","прошивка","выс ручка","итого"]
[]
[null,1,null,null,null,null,null,null,null,null,null,null,null,{"$f":"IF(AND(D24>0,E24>0,M24),\nIF(M24=\"\",0,\nIF(AND(M24<>\"другой/без присадок\",E24<=600,D24<=900),2,\nIF(AND(M24<>\"другой/без присадок\",E24<=600,D24<=1500),3,\nIF(AND(M24<>\"другой/без присадок\",E24<=600,D24<=2100),4,\nIF(AND(M24<>\"другой/без присадок\",E24<=600,D24<=2500),5,\nIF(AND(M24<>\"другой/без присадок\",E24<=600,D24<=3000),6,\n0)))))),\"\")","v":""},null,null,null,null,null,null,null,null,null,null,null,null,null,{"$f":"IF(SUM(AT24:BF24)=13,IF(AQ24=1,BY24,\"введите данные\"),\"недопустимо\")","v":"введите данные"},null,{"$f":"IFERROR(AB24*(100%-$AD$22),\"\")","v":""},null,{"$f":"IFERROR(CONCATENATE(D24,\".\",E24,\nVLOOKUP(G24,список!$S$3:$T$6,2,0),\nVLOOKUP(CONCATENATE(I24,\" \",K24),список!$O$3:$P$8,2,0),\nIF(OR(R24=\"без вставки\",R24=\"\"),\"\",VLOOKUP(V24,список!$D$3:$E$27,2,0))),\"\")","v":""},{"$f":"IF(AND(D24<>0,E24<>0),CONCATENATE(CA24,\" \",CB24,\" \",CC24,\", \",CD24,\", \",CE24,\" \",CF24,\" \",CG24,\" \",CH24,\" \",CI24),\"\")","v":""},null,{"$f":"D24>0","v":false},{"$f":"E24>0","v":false},{"$f":"G24<>\"\"","v":false},{"$f":"I24<>\"\"","v":false},{"$f":"OR(I24=список!$K$3,I24=список!$L$3,AND(I24=список!$M$3,калькулятор!K24<>\"\"))","v":false},{"$f":"OR(R24=список!$AI$5,R24=\"\",AND(OR(R24=список!$AI$3,R24=список!$AI$4),калькулятор!V24<>\"\"))","v":true},{"$f":"Z24>0","v":false},null,{"$f":"IF(AND(AI24=TRUE,AJ24=TRUE,AK24=TRUE,AL24=TRUE,AM24=TRUE,AN24=TRUE,AO24=TRUE),1,0)","v":0},null,null,{"$f":"IF(OR(\n                      AND($I24=список!$K$3,калькулятор!D24<список!$K$2),\n                      AND($I24=список!$L$3,калькулятор!D24<список!$L$2),\n                      AND($I24=список!$M$3,калькулятор!D24<список!$M$2)),0,1)","v":1},{"$f":"IF(OR(\n                      AND($I24=список!$K$3,калькулятор!E24<список!$K$2),\n                      AND($I24=список!$L$3,калькулятор!E24<список!$L$2),\n                      AND($I24=список!$M$3,калькулятор!E24<список!$M$2)),0,1)","v":1},{"$f":"IF(OR(AT24=0,AU24=0),0,1)","v":1},{"$f":"IF(AND(OR($I24=список!$K$3,$I24=список!$L$3),калькулятор!K24<>\"\"),0,1)","v":1},{"$f":"IF(AND(OR(калькулятор!$M24=список!$AC$3,калькулятор!$M24=список!$AC$4),калькулятор!D24>3000),0,1)","v":1},{"$f":"IF(AND(OR(калькулятор!$M24=список!$AC$3,калькулятор!$M24=список!$AC$4),калькулятор!E24>600),0,1)","v":1},{"$f":"IF(AND(P24=\"да\",OR($R24=список!$AI$5,$R24=\"\")),0,1)","v":1},{"$f":"IF(AND(T24=\"да\",OR($R24=список!$AI$5,$R24=\"\")),0,1)","v":1},{"$f":"IF(AND(V24<>\"\",OR($R24=список!$AI$5,$R24=\"\")),0,1)","v":1},{"$f":"IF(AND(OR(X24=список!$G$3,X24=список!$G$4),OR($R24=список!$AI$5,$R24=\"\")),0,1)","v":1},{"$f":"IF(OR(AND(D24>2990,$R24=список!$AI$3),AND($R24=список!$AI$3,калькулятор!$D24>2650,калькулятор!$E24>850)),0,1)","v":1},{"$f":"IF(AND($R24=список!$AI$3,калькулятор!$D24>2650,калькулятор!$E24>850),0,1)","v":1},{"$f":"IF(OR(AND(K24=список!$M$4,калькулятор!M24=список!$AC$3),AND(K24=список!$M$5,калькулятор!M24=список!$AC$4)),0,1)","v":1},null,null,null,{"$f":"D24/1000*E24/1000","v":0},{"$f":"(D24/1000+E24/1000)*2","v":0},{"$f":"IF(OR(R24=\"\",R24=\"без вставки\"),$BL$18*BJ24,IF(R24=\"стандартная\",$BL$19*BJ24,IF(R24=\"комбинированная\",$BL$21*BJ24,0)))","v":0},{"$f":"IF(G24=список!$S$6,калькулятор!BK24*калькулятор!$BM$21,0)","v":0},{"$f":"IF(P24=\"да\",$BN$21*BJ24,0)","v":0},{"$f":"IF(T24=\"да\",(BL24+BN24)*0.1,0)","v":0},{"$f":"IFERROR(N24*$BP$21,0)","v":0},{"$f":"BJ24*2*$BQ$21","v":0},{"$f":"(D24/1000+E24/1000)*2*$BR$21","v":0},{"$f":"IF(V24=\"другой\",BL24*0.1,0)","v":0},{"$f":"IF(AND(D24<1000,E24<1000,D24>0,E24>0),$BT$21,0)","v":0},{"$f":"IF(AND(R24<>\"без вставки\",E24>950),BL24*0.1,0)","v":0},{"$f":"IF(AND(R24=\"стандартная\",D24>=2200,D24<2650),$BV$19,IF(AND(R24=\"стандартная\",D24>2650),$BV$21,0))","v":0},{"$f":"IF(OR(X24=\"\",X24<=список!$G$5),0,BK24*$BW$21)","v":0},{"$f":"IF(I24=\"высокая\",BL24*0.1,0)","v":0},{"$f":"SUM(BL24:BX24)","v":0},null,{"$f":"IF(R24=\"без вставки\",\"Рамка Laconic-S в сборе\",\"Фасад Laconic-S\")","v":"Фасад Laconic-S"},{"$f":"CONCATENATE(D24,\"х\",E24,\" мм\")","v":"х мм"},{"$f":"IF(G24=список!$S$6,\"другой цвет\",G24)","v":0},{"$f":"IF(I24=\"прямой\",\"прямой профиль\",IF(I24=\"скрытая\",\"скрытая ручка\",CONCATENATE(I24,\" ручка \",K24)))","v":" ручка "},{"$f":"IF(M24=0,\"\",IF(M24=\"другой/без присадок\",\"\",M24))","v":""},{"$f":"IF(N24=0,\"без присадок,\",CONCATENATE(\"(присадки - \",N24,\" шт.)\"))","v":"(присадки -  шт.)"},{"$f":"IF(R24=\"без вставки\",\"без вставки\",CONCATENATE(R24,\" вставка\"))","v":" вставка"},{"$f":"IF(V24=0,\"\",V24)","v":""},{"$f":"IF(X24=\"в цвет вставки\",\"прошивка в цвет вставки\",IF(X24=\"в цвет профиля\",\"прошивка в цвет профиля\",IF(X24=\"другой цвет\",\"прошивка другого цвета\",\"без прошивки\")))","v":"без прошивки"}]
[null,2,null,null,null,null,null,null,null,null,null,null,null,{"$f":"IF(AND(D25>0,E25>0,M25),\nIF(M25=\"\",0,\nIF(AND(M25<>\"другой/без присадок\",E25<=600,D25<=900),2,\nIF(AND(M25<>\"другой/без присадок\",E25<=600,D25<=1500),3,\nIF(AND(M25<>\"другой/без присадок\",E25<=600,D25<=2100),4,\nIF(AND(M25<>\"другой/без присадок\",E25<=600,D25<=2500),5,\nIF(AND(M25<>\"другой/без присадок\",E25<=600,D25<=3000),6,\n0)))))),\"\")","v":""},null,null,null,null,null,null,null,null,null,null,null,null,null,{"$f":"IF(SUM(AT25:BF25)=13,IF(AQ25=1,BY25,\"введите данные\"),\"недопустимо\")","v":"введите данные"},null,{"$f":"IFERROR(AB25*(100%-$AD$22),\"\")","v":""},null,{"$f":"IFERROR(CONCATENATE(D25,\".\",E25,\nVLOOKUP(G25,список!$S$3:$T$6,2,0),\nVLOOKUP(CONCATENATE(I25,\" \",K25),список!$O$3:$P$8,2,0),\nIF(OR(R25=\"без вставки\",R25=\"\"),\"\",VLOOKUP(V25,список!$D$3:$E$27,2,0))),\"\")","v":""},{"$f":"IF(AND(D25<>0,E25<>0),CONCATENATE(CA25,\" \",CB25,\" \",CC25,\", \",CD25,\", \",CE25,\" \",CF25,\" \",CG25,\" \",CH25,\" \",CI25),\"\")","v":""},null,{"$f":"D25>0","v":false},{"$f":"E25>0","v":false},{"$f":"G25<>\"\"","v":false},{"$f":"I25<>\"\"","v":false},{"$f":"OR(I25=список!$K$3,I25=список!$L$3,AND(I25=список!$M$3,калькулятор!K25<>\"\"))","v":false},{"$f":"OR(R25=список!$AI$5,R25=\"\",AND(OR(R25=список!$AI$3,R25=список!$AI$4),калькулятор!V25<>\"\"))","v":true},{"$f":"Z25>0","v":false},null,{"$f":"IF(AND(AI25=TRUE,AJ25=TRUE,AK25=TRUE,AL25=TRUE,AM25=TRUE,AN25=TRUE,AO25=TRUE),1,0)","v":0},null,null,{"$f":"IF(OR(\n                      AND($I25=список!$K$3,калькулятор!D25<список!$K$2),\n                      AND($I25=список!$L$3,калькулятор!D25<список!$L$2),\n                      AND($I25=список!$M$3,калькулятор!D25<список!$M$2)),0,1)","v":1},{"$f":"IF(OR(\n                      AND($I25=список!$K$3,калькулятор!E25<список!$K$2),\n                      AND($I25=список!$L$3,калькулятор!E25<список!$L$2),\n                      AND($I25=список!$M$3,калькулятор!E25<список!$M$2)),0,1)","v":1},{"$f":"IF(OR(AT25=0,AU25=0),0,1)","v":1},{"$f":"IF(AND(OR($I25=список!$K$3,$I25=список!$L$3),калькулятор!K25<>\"\"),0,1)","v":1},{"$f":"IF(AND(OR(калькулятор!$M25=список!$AC$3,калькулятор!$M25=список!$AC$4),калькулятор!D25>3000),0,1)","v":1},{"$f":"IF(AND(OR(калькулятор!$M25=список!$AC$3,калькулятор!$M25=список!$AC$4),калькулятор!E25>600),0,1)","v":1},{"$f":"IF(AND(P25=\"да\",OR($R25=список!$AI$5,$R25=\"\")),0,1)","v":1},{"$f":"IF(AND(T25=\"да\",OR($R25=список!$AI$5,$R25=\"\")),0,1)","v":1},{"$f":"IF(AND(V25<>\"\",OR($R25=список!$AI$5,$R25=\"\")),0,1)","v":1},{"$f":"IF(AND(OR(X25=список!$G$3,X25=список!$G$4),OR($R25=список!$AI$5,$R25=\"\")),0,1)","v":1},{"$f":"IF(OR(AND(D25>2990,$R25=список!$AI$3),AND($R25=список!$AI$3,калькулятор!$D25>2650,калькулятор!$E25>850)),0,1)","v":1},{"$f":"IF(AND($R25=список!$AI$3,калькулятор!$D25>2650,калькулятор!$E25>850),0,1)","v":1},{"$f":"IF(OR(AND(K25=список!$M$4,калькулятор!M25=список!$AC$3),AND(K25=список!$M$5,калькулятор!M25=список!$AC$4)),0,1)","v":1},null,null,null,0,0,{"$f":"IF(OR(R25=\"\",R25=\"без вставки\"),$BL$18*BJ25,IF(R25=\"стандартная\",$BL$19*BJ25,IF(R25=\"комбинированная\",$BL$21*BJ25,0)))","v":0},{"$f":"IF(G25=список!$S$6,калькулятор!BK25*калькулятор!$BM$21,0)","v":0},0,0,0,{"$f":"BJ25*2*$BQ$21","v":0},0,0,0,0,0,{"$f":"IF(OR(X25=\"\",X25<=список!$G$5),0,BK25*$BW$21)","v":0},{"$f":"IF(I25=\"высокая\",BL25*0.1,0)","v":0},{"$f":"SUM(BL25:BX25)","v":0},null,"Фасад Laconic-S","х мм",{"$f":"IF(G25=список!$S$6,\"другой цвет\",G25)","v":0}," ручка ","","(присадки -  шт.)"," вставка","",{"$f":"IF(X25=\"в цвет вставки\",\"прошивка в цвет вставки\",IF(X25=\"в цвет профиля\",\"прошивка в цвет профиля\",IF(X25=\"другой цвет\",\"прошивка другого цвета\",\"без прошивки\")))","v":"без прошивки"}]
[null,3,null,null,null,null,null,null,null,null,null,null,null,"",null,null,null,null,null,null,null,null,null,null,null,null,null,"введите данные",null,"",null,{"$f":"IFERROR(CONCATENATE(D26,\".\",E26,\nVLOOKUP(G26,список!$S$3:$T$6,2,0),\nVLOOKUP(CONCATENATE(I26,\" \",K26),список!$O$3:$P$8,2,0),\nIF(OR(R26=\"без вставки\",R26=\"\"),\"\",VLOOKUP(V26,список!$D$3:$E$27,2,0))),\"\")","v":""},"",null,false,false,false,false,{"$f":"OR(I26=список!$K$3,I26=список!$L$3,AND(I26=список!$M$3,калькулятор!K26<>\"\"))","v":false},{"$f":"OR(R26=список!$AI$5,R26=\"\",AND(OR(R26=список!$AI$3,R26=список!$AI$4),калькулятор!V26<>\"\"))","v":true},false,null,0,null,null,{"$f":"IF(OR(\n                      AND($I26=список!$K$3,калькулятор!D26<список!$K$2),\n                      AND($I26=список!$L$3,калькулятор!D26<список!$L$2),\n                      AND($I26=список!$M$3,калькулятор!D26<список!$M$2)),0,1)","v":1},{"$f":"IF(OR(\n                      AND($I26=список!$K$3,калькулятор!E26<список!$K$2),\n                      AND($I26=список!$L$3,калькулятор!E26<список!$L$2),\n                      AND($I26=список!$M$3,калькулятор!E26<список!$M$2)),0,1)","v":1},1,{"$f":"IF(AND(OR($I26=список!$K$3,$I26=список!$L$3),калькулятор!K26<>\"\"),0,1)","v":1},{"$f":"IF(AND(OR(калькулятор!$M26=список!$AC$3,калькулятор!$M26=список!$AC$4),калькулятор!D26>3000),0,1)","v":1},{"$f":"IF(AND(OR(калькулятор!$M26=список!$AC$3,калькулятор!$M26=список!$AC$4),калькулятор!E26>600),0,1)","v":1},{"$f":"IF(AND(P26=\"да\",OR($R26=список!$AI$5,$R26=\"\")),0,1)","v":1},{"$f":"IF(AND(T26=\"да\",OR($R26=список!$AI$5,$R26=\"\")),0,1)","v":1},{"$f":"IF(AND(V26<>\"\",OR($R26=список!$AI$5,$R26=\"\")),0,1)","v":1},{"$f":"IF(AND(OR(X26=список!$G$3,X26=список!$G$4),OR($R26=список!$AI$5,$R26=\"\")),0,1)","v":1},{"$f":"IF(OR(AND(D26>2990,$R26=список!$AI$3),AND($R26=список!$AI$3,калькулятор!$D26>2650,калькулятор!$E26>850)),0,1)","v":1},{"$f":"IF(AND($R26=список!$AI$3,калькулятор!$D26>2650,калькулятор!$E26>850),0,1)","v":1},{"$f":"IF(OR(AND(K26=список!$M$4,калькулятор!M26=список!$AC$3),AND(K26=список!$M$5,калькулятор!M26=список!$AC$4)),0,1)","v":1},null,null,null,0,0,0,{"$f":"IF(G26=список!$S$6,калькулятор!BK26*калькулятор!$BM$21,0)","v":0},0,0,0,0,0,0,0,0,0,{"$f":"IF(OR(X26=\"\",X26<=список!$G$5),0,BK26*$BW$21)","v":0},0,0,null,"Фасад Laconic-S","х мм",{"$f":"IF(G26=список!$S$6,\"другой цвет\",G26)","v":0}," ручка ","","(присадки -  шт.)"," вставка","","без прошивки"]
[null,4,null,null,null,null,null,null,null,null,null,null,null,"",null,null,null,null,null,null,null,null,null,null,null,null,null,"введите данные",null,"",null,{"$f":"IFERROR(CONCATENATE(D27,\".\",E27,\nVLOOKUP(G27,список!$S$3:$T$6,2,0),\nVLOOKUP(CONCATENATE(I27,\" \",K27),список!$O$3:$P$8,2,0),\nIF(OR(R27=\"без вставки\",R27=\"\"),\"\",VLOOKUP(V27,список!$D$3:$E$27,2,0))),\"\")","v":""},"",null,false,false,false,false,{"$f":"OR(I27=список!$K$3,I27=список!$L$3,AND(I27=список!$M$3,калькулятор!K27<>\"\"))","v":false},{"$f":"OR(R27=список!$AI$5,R27=\"\",AND(OR(R27=список!$AI$3,R27=список!$AI$4),калькулятор!V27<>\"\"))","v":true},false,null,0,null,null,{"$f":"IF(OR(\n                      AND($I27=список!$K$3,калькулятор!D27<список!$K$2),\n                      AND($I27=список!$L$3,калькулятор!D27<список!$L$2),\n                      AND($I27=список!$M$3,калькулятор!D27<список!$M$2)),0,1)","v":1},{"$f":"IF(OR(\n                      AND($I27=список!$K$3,калькулятор!E27<список!$K$2),\n                      AND($I27=список!$L$3,калькулятор!E27<список!$L$2),\n                      AND($I27=список!$M$3,калькулятор!E27<список!$M$2)),0,1)","v":1},1,{"$f":"IF(AND(OR($I27=список!$K$3,$I27=список!$L$3),калькулятор!K27<>\"\"),0,1)","v":1},{"$f":"IF(AND(OR(калькулятор!$M27=список!$AC$3,калькулятор!$M27=список!$AC$4),калькулятор!D27>3000),0,1)","v":1},{"$f":"IF(AND(OR(калькулятор!$M27=список!$AC$3,калькулятор!$M27=список!$AC$4),калькулятор!E27>600),0,1)","v":1},{"$f":"IF(AND(P27=\"да\",OR($R27=список!$AI$5,$R27=\"\")),0,1)","v":1},{"$f":"IF(AND(T27=\"да\",OR($R27=список!$AI$5,$R27=\"\")),0,1)","v":1},{"$f":"IF(AND(V27<>\"\",OR($R27=список!$AI$5,$R27=\"\")),0,1)","v":1},{"$f":"IF(AND(OR(X27=список!$G$3,X27=список!$G$4),OR($R27=список!$AI$5,$R27=\"\")),0,1)","v":1},{"$f":"IF(OR(AND(D27>2990,$R27=список!$AI$3),AND($R27=список!$AI$3,калькулятор!$D27>2650,калькулятор!$E27>850)),0,1)","v":1},{"$f":"IF(AND($R27=список!$AI$3,калькулятор!$D27>2650,калькулятор!$E27>850),0,1)","v":1},{"$f":"IF(OR(AND(K27=список!$M$4,калькулятор!M27=список!$AC$3),AND(K27=список!$M$5,калькулятор!M27=список!$AC$4)),0,1)","v":1},null,null,null,0,0,0,{"$f":"IF(G27=список!$S$6,калькулятор!BK27*калькулятор!$BM$21,0)","v":0},0,0,0,0,0,0,0,0,0,{"$f":"IF(OR(X27=\"\",X27<=список!$G$5),0,BK27*$BW$21)","v":0},0,0,null,"Фасад Laconic-S","х мм",{"$f":"IF(G27=список!$S$6,\"другой цвет\",G27)","v":0}," ручка ","","(присадки -  шт.)"," вставка","","без прошивки"]
[null,5,null,null,null,null,null,null,null,null,null,null,null,"",null,null,null,null,null,null,null,null,null,null,null,null,null,"введите данные",null,"",null,{"$f":"IFERROR(CONCATENATE(D28,\".\",E28,\nVLOOKUP(G28,список!$S$3:$T$6,2,0),\nVLOOKUP(CONCATENATE(I28,\" \",K28),список!$O$3:$P$8,2,0),\nIF(OR(R28=\"без вставки\",R28=\"\"),\"\",VLOOKUP(V28,список!$D$3:$E$27,2,0))),\"\")","v":""},"",null,false,false,false,false,{"$f":"OR(I28=список!$K$3,I28=список!$L$3,AND(I28=список!$M$3,калькулятор!K28<>\"\"))","v":false},{"$f":"OR(R28=список!$AI$5,R28=\"\",AND(OR(R28=список!$AI$3,R28=список!$AI$4),калькулятор!V28<>\"\"))","v":true},false,null,0,null,null,{"$f":"IF(OR(\n                      AND($I28=список!$K$3,калькулятор!D28<список!$K$2),\n                      AND($I28=список!$L$3,калькулятор!D28<список!$L$2),\n                      AND($I28=список!$M$3,калькулятор!D28<список!$M$2)),0,1)","v":1},{"$f":"IF(OR(\n                      AND($I28=список!$K$3,калькулятор!E28<список!$K$2),\n                      AND($I28=список!$L$3,калькулятор!E28<список!$L$2),\n                      AND($I28=список!$M$3,калькулятор!E28<список!$M$2)),0,1)","v":1},1,{"$f":"IF(AND(OR($I28=список!$K$3,$I28=список!$L$3),калькулятор!K28<>\"\"),0,1)","v":1},{"$f":"IF(AND(OR(калькулятор!$M28=список!$AC$3,калькулятор!$M28=список!$AC$4),калькулятор!D28>3000),0,1)","v":1},{"$f":"IF(AND(OR(калькулятор!$M28=список!$AC$3,калькулятор!$M28=список!$AC$4),калькулятор!E28>600),0,1)","v":1},{"$f":"IF(AND(P28=\"да\",OR($R28=список!$AI$5,$R28=\"\")),0,1)","v":1},{"$f":"IF(AND(T28=\"да\",OR($R28=список!$AI$5,$R28=\"\")),0,1)","v":1},{"$f":"IF(AND(V28<>\"\",OR($R28=список!$AI$5,$R28=\"\")),0,1)","v":1},{"$f":"IF(AND(OR(X28=список!$G$3,X28=список!$G$4),OR($R28=список!$AI$5,$R28=\"\")),0,1)","v":1},{"$f":"IF(OR(AND(D28>2990,$R28=список!$AI$3),AND($R28=список!$AI$3,калькулятор!$D28>2650,калькулятор!$E28>850)),0,1)","v":1},{"$f":"IF(AND($R28=список!$AI$3,калькулятор!$D28>2650,калькулятор!$E28>850),0,1)","v":1},{"$f":"IF(OR(AND(K28=список!$M$4,калькулятор!M28=список!$AC$3),AND(K28=список!$M$5,калькулятор!M28=список!$AC$4)),0,1)","v":1},null,null,null,0,0,0,{"$f":"IF(G28=список!$S$6,калькулятор!BK28*калькулятор!$BM$21,0)","v":0},0,0,0,0,0,0,0,0,0,{"$f":"IF(OR(X28=\"\",X28<=список!$G$5),0,BK28*$BW$21)","v":0},0,0,null,"Фасад Laconic-S","х мм",{"$f":"IF(G28=список!$S$6,\"другой цвет\",G28)","v":0}," ручка ","","(присадки -  шт.)"," вставка","","без прошивки"]
[null,6,null,null,null,null,null,null,null,null,null,null,null,"",null,null,null,null,null,null,null,null,null,null,null,null,null,"введите данные",null,"",null,{"$f":"IFERROR(CONCATENATE(D29,\".\",E29,\nVLOOKUP(G29,список!$S$3:$T$6,2,0),\nVLOOKUP(CONCATENATE(I29,\" \",K29),список!$O$3:$P$8,2,0),\nIF(OR(R29=\"без вставки\",R29=\"\"),\"\",VLOOKUP(V29,список!$D$3:$E$27,2,0))),\"\")","v":""},"",null,false,false,false,false,{"$f":"OR(I29=список!$K$3,I29=список!$L$3,AND(I29=список!$M$3,калькулятор!K29<>\"\"))","v":false},{"$f":"OR(R29=список!$AI$5,R29=\"\",AND(OR(R29=список!$AI$3,R29=список!$AI$4),калькулятор!V29<>\"\"))","v":true},false,null,0,null,null,{"$f":"IF(OR(\n                      AND($I29=список!$K$3,калькулятор!D29<список!$K$2),\n                      AND($I29=список!$L$3,калькулятор!D29<список!$L$2),\n                      AND($I29=список!$M$3,калькулятор!D29<список!$M$2)),0,1)","v":1},{"$f":"IF(OR(\n                      AND($I29=список!$K$3,калькулятор!E29<список!$K$2),\n                      AND($I29=список!$L$3,калькулятор!E29<список!$L$2),\n                      AND($I29=список!$M$3,калькулятор!E29<список!$M$2)),0,1)","v":1},1,{"$f":"IF(AND(OR($I29=список!$K$3,$I29=список!$L$3),калькулятор!K29<>\"\"),0,1)","v":1},{"$f":"IF(AND(OR(калькулятор!$M29=список!$AC$3,калькулятор!$M29=список!$AC$4),калькулятор!D29>3000),0,1)","v":1},{"$f":"IF(AND(OR(калькулятор!$M29=список!$AC$3,калькулятор!$M29=список!$AC$4),калькулятор!E29>600),0,1)","v":1},{"$f":"IF(AND(P29=\"да\",OR($R29=список!$AI$5,$R29=\"\")),0,1)","v":1},{"$f":"IF(AND(T29=\"да\",OR($R29=список!$AI$5,$R29=\"\")),0,1)","v":1},{"$f":"IF(AND(V29<>\"\",OR($R29=список!$AI$5,$R29=\"\")),0,1)","v":1},{"$f":"IF(AND(OR(X29=список!$G$3,X29=список!$G$4),OR($R29=список!$AI$5,$R29=\"\")),0,1)","v":1},{"$f":"IF(OR(AND(D29>2990,$R29=список!$AI$3),AND($R29=список!$AI$3,калькулятор!$D29>2650,калькулятор!$E29>850)),0,1)","v":1},{"$f":"IF(AND($R29=список!$AI$3,калькулятор!$D29>2650,калькулятор!$E29>850),0,1)","v":1},{"$f":"IF(OR(AND(K29=список!$M$4,калькулятор!M29=список!$AC$3),AND(K29=список!$M$5,калькулятор!M29=список!$AC$4)),0,1)","v":1},null,null,null,0,0,0,{"$f":"IF(G29=список!$S$6,калькулятор!BK29*калькулятор!$BM$21,0)","v":0},0,0,0,0,0,0,0,0,0,{"$f":"IF(OR(X29=\"\",X29<=список!$G$5),0,BK29*$BW$21)","v":0},0,0,null,"Фасад Laconic-S","х мм",{"$f":"IF(G29=список!$S$6,\"другой цвет\",G29)","v":0}," ручка ","","(присадки -  шт.)"," вставка","","без прошивки"]
[null,7,null,null,null,null,null,null,null,null,null,null,null,"",null,null,null,null,null,null,null,null,null,null,null,null,null,"введите данные",null,"",null,{"$f":"IFERROR(CONCATENATE(D30,\".\",E30,\nVLOOKUP(G30,список!$S$3:$T$6,2,0),\nVLOOKUP(CONCATENATE(I30,\" \",K30),список!$O$3:$P$8,2,0),\nIF(OR(R30=\"без вставки\",R30=\"\"),\"\",VLOOKUP(V30,список!$D$3:$E$27,2,0))),\"\")","v":""},"",null,false,false,false,false,{"$f":"OR(I30=список!$K$3,I30=список!$L$3,AND(I30=список!$M$3,калькулятор!K30<>\"\"))","v":false},{"$f":"OR(R30=список!$AI$5,R30=\"\",AND(OR(R30=список!$AI$3,R30=список!$AI$4),калькулятор!V30<>\"\"))","v":true},false,null,0,null,null,{"$f":"IF(OR(\n                      AND($I30=список!$K$3,калькулятор!D30<список!$K$2),\n                      AND($I30=список!$L$3,калькулятор!D30<список!$L$2),\n                      AND($I30=список!$M$3,калькулятор!D30<список!$M$2)),0,1)","v":1},{"$f":"IF(OR(\n                      AND($I30=список!$K$3,калькулятор!E30<список!$K$2),\n                      AND($I30=список!$L$3,калькулятор!E30<список!$L$2),\n                      AND($I30=список!$M$3,калькулятор!E30<список!$M$2)),0,1)","v":1},1,{"$f":"IF(AND(OR($I30=список!$K$3,$I30=список!$L$3),калькулятор!K30<>\"\"),0,1)","v":1},{"$f":"IF(AND(OR(калькулятор!$M30=список!$AC$3,калькулятор!$M30=список!$AC$4),калькулятор!D30>3000),0,1)","v":1},{"$f":"IF(AND(OR(калькулятор!$M30=список!$AC$3,калькулятор!$M30=список!$AC$4),калькулятор!E30>600),0,1)","v":1},{"$f":"IF(AND(P30=\"да\",OR($R30=список!$AI$5,$R30=\"\")),0,1)","v":1},{"$f":"IF(AND(T30=\"да\",OR($R30=список!$AI$5,$R30=\"\")),0,1)","v":1},{"$f":"IF(AND(V30<>\"\",OR($R30=список!$AI$5,$R30=\"\")),0,1)","v":1},{"$f":"IF(AND(OR(X30=список!$G$3,X30=список!$G$4),OR($R30=список!$AI$5,$R30=\"\")),0,1)","v":1},{"$f":"IF(OR(AND(D30>2990,$R30=список!$AI$3),AND($R30=список!$AI$3,калькулятор!$D30>2650,калькулятор!$E30>850)),0,1)","v":1},{"$f":"IF(AND($R30=список!$AI$3,калькулятор!$D30>2650,калькулятор!$E30>850),0,1)","v":1},{"$f":"IF(OR(AND(K30=список!$M$4,калькулятор!M30=список!$AC$3),AND(K30=список!$M$5,калькулятор!M30=список!$AC$4)),0,1)","v":1},null,null,null,0,0,0,{"$f":"IF(G30=список!$S$6,калькулятор!BK30*калькулятор!$BM$21,0)","v":0},0,0,0,0,0,0,0,0,0,{"$f":"IF(OR(X30=\"\",X30<=список!$G$5),0,BK30*$BW$21)","v":0},0,0,null,"Фасад Laconic-S","х мм",{"$f":"IF(G30=список!$S$6,\"другой цвет\",G30)","v":0}," ручка ","","(присадки -  шт.)"," вставка","","без прошивки"]
[null,8,null,null,null,null,null,null,null,null,null,null,null,"",null,null,null,null,null,null,null,null,null,null,null,null,null,"введите данные",null,"",null,{"$f":"IFERROR(CONCATENATE(D31,\".\",E31,\nVLOOKUP(G31,список!$S$3:$T$6,2,0),\nVLOOKUP(CONCATENATE(I31,\" \",K31),список!$O$3:$P$8,2,0),\nIF(OR(R31=\"без вставки\",R31=\"\"),\"\",VLOOKUP(V31,список!$D$3:$E$27,2,0))),\"\")","v":""},"",null,false,false,false,false,{"$f":"OR(I31=список!$K$3,I31=список!$L$3,AND(I31=список!$M$3,калькулятор!K31<>\"\"))","v":false},{"$f":"OR(R31=список!$AI$5,R31=\"\",AND(OR(R31=список!$AI$3,R31=список!$AI$4),калькулятор!V31<>\"\"))","v":true},false,null,0,null,null,{"$f":"IF(OR(\n                      AND($I31=список!$K$3,калькулятор!D31<список!$K$2),\n                      AND($I31=список!$L$3,калькулятор!D31<список!$L$2),\n                      AND($I31=список!$M$3,калькулятор!D31<список!$M$2)),0,1)","v":1},{"$f":"IF(OR(\n                      AND($I31=список!$K$3,калькулятор!E31<список!$K$2),\n                      AND($I31=список!$L$3,калькулятор!E31<список!$L$2),\n                      AND($I31=список!$M$3,калькулятор!E31<список!$M$2)),0,1)","v":1},1,{"$f":"IF(AND(OR($I31=список!$K$3,$I31=список!$L$3),калькулятор!K31<>\"\"),0,1)","v":1},{"$f":"IF(AND(OR(калькулятор!$M31=список!$AC$3,калькулятор!$M31=список!$AC$4),калькулятор!D31>3000),0,1)","v":1},{"$f":"IF(AND(OR(калькулятор!$M31=список!$AC$3,калькулятор!$M31=список!$AC$4),калькулятор!E31>600),0,1)","v":1},{"$f":"IF(AND(P31=\"да\",OR($R31=список!$AI$5,$R31=\"\")),0,1)","v":1},{"$f":"IF(AND(T31=\"да\",OR($R31=список!$AI$5,$R31=\"\")),0,1)","v":1},{"$f":"IF(AND(V31<>\"\",OR($R31=список!$AI$5,$R31=\"\")),0,1)","v":1},{"$f":"IF(AND(OR(X31=список!$G$3,X31=список!$G$4),OR($R31=список!$AI$5,$R31=\"\")),0,1)","v":1},{"$f":"IF(OR(AND(D31>2990,$R31=список!$AI$3),AND($R31=список!$AI$3,калькулятор!$D31>2650,калькулятор!$E31>850)),0,1)","v":1},{"$f":"IF(AND($R31=список!$AI$3,калькулятор!$D31>2650,калькулятор!$E31>850),0,1)","v":1},{"$f":"IF(OR(AND(K31=список!$M$4,калькулятор!M31=список!$AC$3),AND(K31=список!$M$5,калькулятор!M31=список!$AC$4)),0,1)","v":1},null,null,null,0,0,0,{"$f":"IF(G31=список!$S$6,калькулятор!BK31*калькулятор!$BM$21,0)","v":0},0,0,0,0,0,0,0,0,0,{"$f":"IF(OR(X31=\"\",X31<=список!$G$5),0,BK31*$BW$21)","v":0},0,0,null,"Фасад Laconic-S","х мм",{"$f":"IF(G31=список!$S$6,\"другой цвет\",G31)","v":0}," ручка ","","(присадки -  шт.)"," вставка","","без прошивки"]
[null,9,null,null,null,null,null,null,null,null,null,null,null,"",null,null,null,null,null,null,null,null,null,null,null,null,null,"введите данные",null,"",null,{"$f":"IFERROR(CONCATENATE(D32,\".\",E32,\nVLOOKUP(G32,список!$S$3:$T$6,2,0),\nVLOOKUP(CONCATENATE(I32,\" \",K32),список!$O$3:$P$8,2,0),\nIF(OR(R32=\"без вставки\",R32=\"\"),\"\",VLOOKUP(V32,список!$D$3:$E$27,2,0))),\"\")","v":""},"",null,false,false,false,false,{"$f":"OR(I32=список!$K$3,I32=список!$L$3,AND(I32=список!$M$3,калькулятор!K32<>\"\"))","v":false},{"$f":"OR(R32=список!$AI$5,R32=\"\",AND(OR(R32=список!$AI$3,R32=список!$AI$4),калькулятор!V32<>\"\"))","v":true},false,null,0,null,null,{"$f":"IF(OR(\n                      AND($I32=список!$K$3,калькулятор!D32<список!$K$2),\n                      AND($I32=список!$L$3,калькулятор!D32<список!$L$2),\n                      AND($I32=список!$M$3,калькулятор!D32<список!$M$2)),0,1)","v":1},{"$f":"IF(OR(\n                      AND($I32=список!$K$3,калькулятор!E32<список!$K$2),\n                      AND($I32=список!$L$3,калькулятор!E32<список!$L$2),\n                      AND($I32=список!$M$3,калькулятор!E32<список!$M$2)),0,1)","v":1},1,{"$f":"IF(AND(OR($I32=список!$K$3,$I32=список!$L$3),калькулятор!K32<>\"\"),0,1)","v":1},{"$f":"IF(AND(OR(калькулятор!$M32=список!$AC$3,калькулятор!$M32=список!$AC$4),калькулятор!D32>3000),0,1)","v":1},{"$f":"IF(AND(OR(калькулятор!$M32=список!$AC$3,калькулятор!$M32=список!$AC$4),калькулятор!E32>600),0,1)","v":1},{"$f":"IF(AND(P32=\"да\",OR($R32=список!$AI$5,$R32=\"\")),0,1)","v":1},{"$f":"IF(AND(T32=\"да\",OR($R32=список!$AI$5,$R32=\"\")),0,1)","v":1},{"$f":"IF(AND(V32<>\"\",OR($R32=список!$AI$5,$R32=\"\")),0,1)","v":1},{"$f":"IF(AND(OR(X32=список!$G$3,X32=список!$G$4),OR($R32=список!$AI$5,$R32=\"\")),0,1)","v":1},{"$f":"IF(OR(AND(D32>2990,$R32=список!$AI$3),AND($R32=список!$AI$3,калькулятор!$D32>2650,калькулятор!$E32>850)),0,1)","v":1},{"$f":"IF(AND($R32=список!$AI$3,калькулятор!$D32>2650,калькулятор!$E32>850),0,1)","v":1},{"$f":"IF(OR(AND(K32=список!$M$4,калькулятор!M32=список!$AC$3),AND(K32=список!$M$5,калькулятор!M32=список!$AC$4)),0,1)","v":1},null,null,null,0,0,0,{"$f":"IF(G32=список!$S$6,калькулятор!BK32*калькулятор!$BM$21,0)","v":0},0,0,0,0,0,0,0,0,0,{"$f":"IF(OR(X32=\"\",X32<=список!$G$5),0,BK32*$BW$21)","v":0},0,0,null,"Фасад Laconic-S","х мм",{"$f":"IF(G32=список!$S$6,\"другой цвет\",G32)","v":0}," ручка ","","(присадки -  шт.)"," вставка","","без прошивки"]
[null,10,null,null,null,null,null,null,null,null,null,null,null,"",null,null,null,null,null,null,null,null,null,null,null,null,null,"введите данные",null,"",null,{"$f":"IFERROR(CONCATENATE(D33,\".\",E33,\nVLOOKUP(G33,список!$S$3:$T$6,2,0),\nVLOOKUP(CONCATENATE(I33,\" \",K33),список!$O$3:$P$8,2,0),\nIF(OR(R33=\"без вставки\",R33=\"\"),\"\",VLOOKUP(V33,список!$D$3:$E$27,2,0))),\"\")","v":""},"",null,false,false,false,false,{"$f":"OR(I33=список!$K$3,I33=список!$L$3,AND(I33=список!$M$3,калькулятор!K33<>\"\"))","v":false},{"$f":"OR(R33=список!$AI$5,R33=\"\",AND(OR(R33=список!$AI$3,R33=список!$AI$4),калькулятор!V33<>\"\"))","v":true},false,null,0,null,null,{"$f":"IF(OR(\n                      AND($I33=список!$K$3,калькулятор!D33<список!$K$2),\n                      AND($I33=список!$L$3,калькулятор!D33<список!$L$2),\n                      AND($I33=список!$M$3,калькулятор!D33<список!$M$2)),0,1)","v":1},{"$f":"IF(OR(\n                      AND($I33=список!$K$3,калькулятор!E33<список!$K$2),\n                      AND($I33=список!$L$3,калькулятор!E33<список!$L$2),\n                      AND($I33=список!$M$3,калькулятор!E33<список!$M$2)),0,1)","v":1},1,{"$f":"IF(AND(OR($I33=список!$K$3,$I33=список!$L$3),калькулятор!K33<>\"\"),0,1)","v":1},{"$f":"IF(AND(OR(калькулятор!$M33=список!$AC$3,калькулятор!$M33=список!$AC$4),калькулятор!D33>3000),0,1)","v":1},{"$f":"IF(AND(OR(калькулятор!$M33=список!$AC$3,калькулятор!$M33=список!$AC$4),калькулятор!E33>600),0,1)","v":1},{"$f":"IF(AND(P33=\"да\",OR($R33=список!$AI$5,$R33=\"\")),0,1)","v":1},{"$f":"IF(AND(T33=\"да\",OR($R33=список!$AI$5,$R33=\"\")),0,1)","v":1},{"$f":"IF(AND(V33<>\"\",OR($R33=список!$AI$5,$R33=\"\")),0,1)","v":1},{"$f":"IF(AND(OR(X33=список!$G$3,X33=список!$G$4),OR($R33=список!$AI$5,$R33=\"\")),0,1)","v":1},{"$f":"IF(OR(AND(D33>2990,$R33=список!$AI$3),AND($R33=список!$AI$3,калькулятор!$D33>2650,калькулятор!$E33>850)),0,1)","v":1},{"$f":"IF(AND($R33=список!$AI$3,калькулятор!$D33>2650,калькулятор!$E33>850),0,1)","v":1},{"$f":"IF(OR(AND(K33=список!$M$4,калькулятор!M33=список!$AC$3),AND(K33=список!$M$5,калькулятор!M33=список!$AC$4)),0,1)","v":1},null,null,null,0,0,0,{"$f":"IF(G33=список!$S$6,калькулятор!BK33*калькулятор!$BM$21,0)","v":0},0,0,0,0,0,0,0,0,0,{"$f":"IF(OR(X33=\"\",X33<=список!$G$5),0,BK33*$BW$21)","v":0},0,0,null,"Фасад Laconic-S","х мм",{"$f":"IF(G33=список!$S$6,\"другой цвет\",G33)","v":0}," ручка ","","(присадки -  шт.)"," вставка","","без прошивки"]
[null,11,null,null,null,null,null,null,null,null,null,null,null,"",null,null,null,null,null,null,null,null,null,null,null,null,null,"введите данные",null,"",null,{"$f":"IFERROR(CONCATENATE(D34,\".\",E34,\nVLOOKUP(G34,список!$S$3:$T$6,2,0),\nVLOOKUP(CONCATENATE(I34,\" \",K34),список!$O$3:$P$8,2,0),\nIF(OR(R34=\"без вставки\",R34=\"\"),\"\",VLOOKUP(V34,список!$D$3:$E$27,2,0))),\"\")","v":""},"",null,false,false,false,false,{"$f":"OR(I34=список!$K$3,I34=список!$L$3,AND(I34=список!$M$3,калькулятор!K34<>\"\"))","v":false},{"$f":"OR(R34=список!$AI$5,R34=\"\",AND(OR(R34=список!$AI$3,R34=список!$AI$4),калькулятор!V34<>\"\"))","v":true},false,null,0,null,null,{"$f":"IF(OR(\n                      AND($I34=список!$K$3,калькулятор!D34<список!$K$2),\n                      AND($I34=список!$L$3,калькулятор!D34<список!$L$2),\n                      AND($I34=список!$M$3,калькулятор!D34<список!$M$2)),0,1)","v":1},{"$f":"IF(OR(\n                      AND($I34=список!$K$3,калькулятор!E34<список!$K$2),\n                      AND($I34=список!$L$3,калькулятор!E34<список!$L$2),\n                      AND($I34=список!$M$3,калькулятор!E34<список!$M$2)),0,1)","v":1},1,{"$f":"IF(AND(OR($I34=список!$K$3,$I34=список!$L$3),калькулятор!K34<>\"\"),0,1)","v":1},{"$f":"IF(AND(OR(калькулятор!$M34=список!$AC$3,калькулятор!$M34=список!$AC$4),калькулятор!D34>3000),0,1)","v":1},{"$f":"IF(AND(OR(калькулятор!$M34=список!$AC$3,калькулятор!$M34=список!$AC$4),калькулятор!E34>600),0,1)","v":1},{"$f":"IF(AND(P34=\"да\",OR($R34=список!$AI$5,$R34=\"\")),0,1)","v":1},{"$f":"IF(AND(T34=\"да\",OR($R34=список!$AI$5,$R34=\"\")),0,1)","v":1},{"$f":"IF(AND(V34<>\"\",OR($R34=список!$AI$5,$R34=\"\")),0,1)","v":1},{"$f":"IF(AND(OR(X34=список!$G$3,X34=список!$G$4),OR($R34=список!$AI$5,$R34=\"\")),0,1)","v":1},{"$f":"IF(OR(AND(D34>2990,$R34=список!$AI$3),AND($R34=список!$AI$3,калькулятор!$D34>2650,калькулятор!$E34>850)),0,1)","v":1},{"$f":"IF(AND($R34=список!$AI$3,калькулятор!$D34>2650,калькулятор!$E34>850),0,1)","v":1},{"$f":"IF(OR(AND(K34=список!$M$4,калькулятор!M34=список!$AC$3),AND(K34=список!$M$5,калькулятор!M34=список!$AC$4)),0,1)","v":1},null,null,null,0,0,0,{"$f":"IF(G34=список!$S$6,калькулятор!BK34*калькулятор!$BM$21,0)","v":0},0,0,0,0,0,0,0,0,0,{"$f":"IF(OR(X34=\"\",X34<=список!$G$5),0,BK34*$BW$21)","v":0},0,0,null,"Фасад Laconic-S","х мм",{"$f":"IF(G34=список!$S$6,\"другой цвет\",G34)","v":0}," ручка ","","(присадки -  шт.)"," вставка","","без прошивки"]
[null,12,null,null,null,null,null,null,null,null,null,null,null,"",null,null,null,null,null,null,null,null,null,null,null,null,null,"введите данные",null,"",null,{"$f":"IFERROR(CONCATENATE(D35,\".\",E35,\nVLOOKUP(G35,список!$S$3:$T$6,2,0),\nVLOOKUP(CONCATENATE(I35,\" \",K35),список!$O$3:$P$8,2,0),\nIF(OR(R35=\"без вставки\",R35=\"\"),\"\",VLOOKUP(V35,список!$D$3:$E$27,2,0))),\"\")","v":""},"",null,false,false,false,false,{"$f":"OR(I35=список!$K$3,I35=список!$L$3,AND(I35=список!$M$3,калькулятор!K35<>\"\"))","v":false},{"$f":"OR(R35=список!$AI$5,R35=\"\",AND(OR(R35=список!$AI$3,R35=список!$AI$4),калькулятор!V35<>\"\"))","v":true},false,null,0,null,null,{"$f":"IF(OR(\n                      AND($I35=список!$K$3,калькулятор!D35<список!$K$2),\n                      AND($I35=список!$L$3,калькулятор!D35<список!$L$2),\n                      AND($I35=список!$M$3,калькулятор!D35<список!$M$2)),0,1)","v":1},{"$f":"IF(OR(\n                      AND($I35=список!$K$3,калькулятор!E35<список!$K$2),\n                      AND($I35=список!$L$3,калькулятор!E35<список!$L$2),\n                      AND($I35=список!$M$3,калькулятор!E35<список!$M$2)),0,1)","v":1},1,{"$f":"IF(AND(OR($I35=список!$K$3,$I35=список!$L$3),калькулятор!K35<>\"\"),0,1)","v":1},{"$f":"IF(AND(OR(калькулятор!$M35=список!$AC$3,калькулятор!$M35=список!$AC$4),калькулятор!D35>3000),0,1)","v":1},{"$f":"IF(AND(OR(калькулятор!$M35=список!$AC$3,калькулятор!$M35=список!$AC$4),калькулятор!E35>600),0,1)","v":1},{"$f":"IF(AND(P35=\"да\",OR($R35=список!$AI$5,$R35=\"\")),0,1)","v":1},{"$f":"IF(AND(T35=\"да\",OR($R35=список!$AI$5,$R35=\"\")),0,1)","v":1},{"$f":"IF(AND(V35<>\"\",OR($R35=список!$AI$5,$R35=\"\")),0,1)","v":1},{"$f":"IF(AND(OR(X35=список!$G$3,X35=список!$G$4),OR($R35=список!$AI$5,$R35=\"\")),0,1)","v":1},{"$f":"IF(OR(AND(D35>2990,$R35=список!$AI$3),AND($R35=список!$AI$3,калькулятор!$D35>2650,калькулятор!$E35>850)),0,1)","v":1},{"$f":"IF(AND($R35=список!$AI$3,калькулятор!$D35>2650,калькулятор!$E35>850),0,1)","v":1},{"$f":"IF(OR(AND(K35=список!$M$4,калькулятор!M35=список!$AC$3),AND(K35=список!$M$5,калькулятор!M35=список!$AC$4)),0,1)","v":1},null,null,null,0,0,0,{"$f":"IF(G35=список!$S$6,калькулятор!BK35*калькулятор!$BM$21,0)","v":0},0,0,0,0,0,0,0,0,0,{"$f":"IF(OR(X35=\"\",X35<=список!$G$5),0,BK35*$BW$21)","v":0},0,0,null,"Фасад Laconic-S","х мм",{"$f":"IF(G35=список!$S$6,\"другой цвет\",G35)","v":0}," ручка ","","(присадки -  шт.)"," вставка","","без прошивки"]
[null,13,null,null,null,null,null,null,null,null,null,null,null,"",null,null,null,null,null,null,null,null,null,null,null,null,null,"введите данные",null,"",null,{"$f":"IFERROR(CONCATENATE(D36,\".\",E36,\nVLOOKUP(G36,список!$S$3:$T$6,2,0),\nVLOOKUP(CONCATENATE(I36,\" \",K36),список!$O$3:$P$8,2,0),\nIF(OR(R36=\"без вставки\",R36=\"\"),\"\",VLOOKUP(V36,список!$D$3:$E$27,2,0))),\"\")","v":""},"",null,false,false,false,false,{"$f":"OR(I36=список!$K$3,I36=список!$L$3,AND(I36=список!$M$3,калькулятор!K36<>\"\"))","v":false},{"$f":"OR(R36=список!$AI$5,R36=\"\",AND(OR(R36=список!$AI$3,R36=список!$AI$4),калькулятор!V36<>\"\"))","v":true},false,null,0,null,null,{"$f":"IF(OR(\n                      AND($I36=список!$K$3,калькулятор!D36<список!$K$2),\n                      AND($I36=список!$L$3,калькулятор!D36<список!$L$2),\n                      AND($I36=список!$M$3,калькулятор!D36<список!$M$2)),0,1)","v":1},{"$f":"IF(OR(\n                      AND($I36=список!$K$3,калькулятор!E36<список!$K$2),\n                      AND($I36=список!$L$3,калькулятор!E36<список!$L$2),\n                      AND($I36=список!$M$3,калькулятор!E36<список!$M$2)),0,1)","v":1},1,{"$f":"IF(AND(OR($I36=список!$K$3,$I36=список!$L$3),калькулятор!K36<>\"\"),0,1)","v":1},{"$f":"IF(AND(OR(калькулятор!$M36=список!$AC$3,калькулятор!$M36=список!$AC$4),калькулятор!D36>3000),0,1)","v":1},{"$f":"IF(AND(OR(калькулятор!$M36=список!$AC$3,калькулятор!$M36=список!$AC$4),калькулятор!E36>600),0,1)","v":1},{"$f":"IF(AND(P36=\"да\",OR($R36=список!$AI$5,$R36=\"\")),0,1)","v":1},{"$f":"IF(AND(T36=\"да\",OR($R36=список!$AI$5,$R36=\"\")),0,1)","v":1},{"$f":"IF(AND(V36<>\"\",OR($R36=список!$AI$5,$R36=\"\")),0,1)","v":1},{"$f":"IF(AND(OR(X36=список!$G$3,X36=список!$G$4),OR($R36=список!$AI$5,$R36=\"\")),0,1)","v":1},{"$f":"IF(OR(AND(D36>2990,$R36=список!$AI$3),AND($R36=список!$AI$3,калькулятор!$D36>2650,калькулятор!$E36>850)),0,1)","v":1},{"$f":"IF(AND($R36=список!$AI$3,калькулятор!$D36>2650,калькулятор!$E36>850),0,1)","v":1},{"$f":"IF(OR(AND(K36=список!$M$4,калькулятор!M36=список!$AC$3),AND(K36=список!$M$5,калькулятор!M36=список!$AC$4)),0,1)","v":1},null,null,null,0,0,0,{"$f":"IF(G36=список!$S$6,калькулятор!BK36*калькулятор!$BM$21,0)","v":0},0,0,0,0,0,0,0,0,0,{"$f":"IF(OR(X36=\"\",X36<=список!$G$5),0,BK36*$BW$21)","v":0},0,0,null,"Фасад Laconic-S","х мм",{"$f":"IF(G36=список!$S$6,\"другой цвет\",G36)","v":0}," ручка ","","(присадки -  шт.)"," вставка","","без прошивки"]
[null,14,null,null,null,null,null,null,null,null,null,null,null,"",null,null,null,null,null,null,null,null,null,null,null,null,null,"введите данные",null,"",null,{"$f":"IFERROR(CONCATENATE(D37,\".\",E37,\nVLOOKUP(G37,список!$S$3:$T$6,2,0),\nVLOOKUP(CONCATENATE(I37,\" \",K37),список!$O$3:$P$8,2,0),\nIF(OR(R37=\"без вставки\",R37=\"\"),\"\",VLOOKUP(V37,список!$D$3:$E$27,2,0))),\"\")","v":""},"",null,false,false,false,false,{"$f":"OR(I37=список!$K$3,I37=список!$L$3,AND(I37=список!$M$3,калькулятор!K37<>\"\"))","v":false},{"$f":"OR(R37=список!$AI$5,R37=\"\",AND(OR(R37=список!$AI$3,R37=список!$AI$4),калькулятор!V37<>\"\"))","v":true},false,null,0,null,null,{"$f":"IF(OR(\n                      AND($I37=список!$K$3,калькулятор!D37<список!$K$2),\n                      AND($I37=список!$L$3,калькулятор!D37<список!$L$2),\n                      AND($I37=список!$M$3,калькулятор!D37<список!$M$2)),0,1)","v":1},{"$f":"IF(OR(\n                      AND($I37=список!$K$3,калькулятор!E37<список!$K$2),\n                      AND($I37=список!$L$3,калькулятор!E37<список!$L$2),\n                      AND($I37=список!$M$3,калькулятор!E37<список!$M$2)),0,1)","v":1},1,{"$f":"IF(AND(OR($I37=список!$K$3,$I37=список!$L$3),калькулятор!K37<>\"\"),0,1)","v":1},{"$f":"IF(AND(OR(калькулятор!$M37=список!$AC$3,калькулятор!$M37=список!$AC$4),калькулятор!D37>3000),0,1)","v":1},{"$f":"IF(AND(OR(калькулятор!$M37=список!$AC$3,калькулятор!$M37=список!$AC$4),калькулятор!E37>600),0,1)","v":1},{"$f":"IF(AND(P37=\"да\",OR($R37=список!$AI$5,$R37=\"\")),0,1)","v":1},{"$f":"IF(AND(T37=\"да\",OR($R37=список!$AI$5,$R37=\"\")),0,1)","v":1},{"$f":"IF(AND(V37<>\"\",OR($R37=список!$AI$5,$R37=\"\")),0,1)","v":1},{"$f":"IF(AND(OR(X37=список!$G$3,X37=список!$G$4),OR($R37=список!$AI$5,$R37=\"\")),0,1)","v":1},{"$f":"IF(OR(AND(D37>2990,$R37=список!$AI$3),AND($R37=список!$AI$3,калькулятор!$D37>2650,калькулятор!$E37>850)),0,1)","v":1},{"$f":"IF(AND($R37=список!$AI$3,калькулятор!$D37>2650,калькулятор!$E37>850),0,1)","v":1},{"$f":"IF(OR(AND(K37=список!$M$4,калькулятор!M37=список!$AC$3),AND(K37=список!$M$5,калькулятор!M37=список!$AC$4)),0,1)","v":1},null,null,null,0,0,0,{"$f":"IF(G37=список!$S$6,калькулятор!BK37*калькулятор!$BM$21,0)","v":0},0,0,0,0,0,0,0,0,0,{"$f":"IF(OR(X37=\"\",X37<=список!$G$5),0,BK37*$BW$21)","v":0},0,0,null,"Фасад Laconic-S","х мм",{"$f":"IF(G37=список!$S$6,\"другой цвет\",G37)","v":0}," ручка ","","(присадки -  шт.)"," вставка","","без прошивки"]
[null,15,null,null,null,null,null,null,null,null,null,null,null,"",null,null,null,null,null,null,null,null,null,null,null,null,null,"введите данные",null,"",null,{"$f":"IFERROR(CONCATENATE(D38,\".\",E38,\nVLOOKUP(G38,список!$S$3:$T$6,2,0),\nVLOOKUP(CONCATENATE(I38,\" \",K38),список!$O$3:$P$8,2,0),\nIF(OR(R38=\"без вставки\",R38=\"\"),\"\",VLOOKUP(V38,список!$D$3:$E$27,2,0))),\"\")","v":""},"",null,false,false,false,false,{"$f":"OR(I38=список!$K$3,I38=список!$L$3,AND(I38=список!$M$3,калькулятор!K38<>\"\"))","v":false},{"$f":"OR(R38=список!$AI$5,R38=\"\",AND(OR(R38=список!$AI$3,R38=список!$AI$4),калькулятор!V38<>\"\"))","v":true},false,null,0,null,null,{"$f":"IF(OR(\n                      AND($I38=список!$K$3,калькулятор!D38<список!$K$2),\n                      AND($I38=список!$L$3,калькулятор!D38<список!$L$2),\n                      AND($I38=список!$M$3,калькулятор!D38<список!$M$2)),0,1)","v":1},{"$f":"IF(OR(\n                      AND($I38=список!$K$3,калькулятор!E38<список!$K$2),\n                      AND($I38=список!$L$3,калькулятор!E38<список!$L$2),\n                      AND($I38=список!$M$3,калькулятор!E38<список!$M$2)),0,1)","v":1},1,{"$f":"IF(AND(OR($I38=список!$K$3,$I38=список!$L$3),калькулятор!K38<>\"\"),0,1)","v":1},{"$f":"IF(AND(OR(калькулятор!$M38=список!$AC$3,калькулятор!$M38=список!$AC$4),калькулятор!D38>3000),0,1)","v":1},{"$f":"IF(AND(OR(калькулятор!$M38=список!$AC$3,калькулятор!$M38=список!$AC$4),калькулятор!E38>600),0,1)","v":1},{"$f":"IF(AND(P38=\"да\",OR($R38=список!$AI$5,$R38=\"\")),0,1)","v":1},{"$f":"IF(AND(T38=\"да\",OR($R38=список!$AI$5,$R38=\"\")),0,1)","v":1},{"$f":"IF(AND(V38<>\"\",OR($R38=список!$AI$5,$R38=\"\")),0,1)","v":1},{"$f":"IF(AND(OR(X38=список!$G$3,X38=список!$G$4),OR($R38=список!$AI$5,$R38=\"\")),0,1)","v":1},{"$f":"IF(OR(AND(D38>2990,$R38=список!$AI$3),AND($R38=список!$AI$3,калькулятор!$D38>2650,калькулятор!$E38>850)),0,1)","v":1},{"$f":"IF(AND($R38=список!$AI$3,калькулятор!$D38>2650,калькулятор!$E38>850),0,1)","v":1},{"$f":"IF(OR(AND(K38=список!$M$4,калькулятор!M38=список!$AC$3),AND(K38=список!$M$5,калькулятор!M38=список!$AC$4)),0,1)","v":1},null,null,null,0,0,0,{"$f":"IF(G38=список!$S$6,калькулятор!BK38*калькулятор!$BM$21,0)","v":0},0,0,0,0,0,0,0,0,0,{"$f":"IF(OR(X38=\"\",X38<=список!$G$5),0,BK38*$BW$21)","v":0},0,0,null,"Фасад Laconic-S","х мм",{"$f":"IF(G38=список!$S$6,\"другой цвет\",G38)","v":0}," ручка ","","(присадки -  шт.)"," вставка","","без прошивки"]
[]
[null,null,null,"После заполнения данных перейдите на страницу ",null,null,null,null,null,null,null,null,"ФОРМА ЗАКАЗА","и дозаполните ячейки, выделенные красным",null,null,null,null,null,null,null,null,null,"ИТОГО:",null,{"$f":"CONCATENATE(SUM(Z24:Z38),\" шт.\")","v":"0 шт."},null,{"$f":"SUMPRODUCT(Z24:Z38,AB24:AB38)","v":0},null,{"$f":"SUMPRODUCT(Z24:Z38,AD24:AD38)","v":0}]
[]
[]
[null,null,null,null,null,null,null,null,null,null,null,null," "]
[null,null,null,null,null,null,null,null,null,null,null,null,null," "]

{"sheet":"список","index":1,"n_rows":28,"n_cols":37,"rows_kept":28,"cut":false,"hidden":true,"merged":[[18,24,18,26]]}
[null,null,null,null,null,null,null,null,null,null,null,null,null,null,null,null,null,null,null,null,null,null,null,null,"Для фильтра присадки под петли",null,null,null,null,null,null,null,null,"для фильтра вставка"]
[null,"стандартная","АРТИКУЛ","комбинированная",null,null,null,null,null,null,126.5,136,163,null,null,null,null,null,null,null,null,null,null,null,null,"Столбец1","Столбец2","Столбец3","Столбец4"]
[1,"Matti White",13037,"Matti White","M_Wh",null,"в цвет профиля",null,null,null,"прямой","скрытая","высокая",null,"прямой ",1,null,null,"черный","B",null,null,null,null,null,"прямой",null,1,"левый фасад",null,{"$f":"IF(IF(OR(калькулятор!D24>3000,калькулятор!E24>600),\"*\")=\"*\",\"7\",VLOOKUP(CONCATENATE(калькулятор!I24,\" \",калькулятор!K24),список!$O$3:$P$8,2,0))*1","v":{"$error":"#N/A"}},null,null,1,"стандартная",{"$f":"IF(OR(AND(калькулятор!D24>2650,калькулятор!E24<=850),калькулятор!D24<2650),\"1\",\"2\")*1","v":1},{"$f":"OFFSET(список!$AH$2,MATCH(список!AJ3,список!$AH$3:$AH$7,0),1,COUNTIF(список!$AH$3:$AH$7,список!AJ3),1)","v":"стандартная"}]
[2,"Matti Cream",13023,"Matti Cream","M_Cr",null,"в цвет вставки",null,null,null,null,null,"слева",null,"скрытая ",2,null,null,"серебро","S",null,null,null,null,null,"прямой",null,1,"правый фасад",null,{"$f":"IF(IF(OR(калькулятор!D25>3000,калькулятор!E25>600),\"*\")=\"*\",\"7\",VLOOKUP(CONCATENATE(калькулятор!I25,\" \",калькулятор!K25),список!$O$3:$P$8,2,0))*1","v":{"$error":"#N/A"}},null,null,1,"комбинированная",{"$f":"IF(OR(AND(калькулятор!D25>2650,калькулятор!E25<=850),калькулятор!D25<2650),\"1\",\"2\")*1","v":1},"комбинированная"]
[3,"Matti  Beige",13019,"Matti  Beige","M_Bg",null,"без прошивки",null,null,null,null,null,"справа",null,"высокая слева",3,null,null,"шампань","C",null,null,null,null,null,"прямой",null,1,"другой/без присадок",null,{"$f":"IF(IF(OR(калькулятор!D26>3000,калькулятор!E26>600),\"*\")=\"*\",\"7\",VLOOKUP(CONCATENATE(калькулятор!I26,\" \",калькулятор!K26),список!$O$3:$P$8,2,0))*1","v":{"$error":"#N/A"}},null,null,1,"без вставки",{"$f":"IF(OR(AND(калькулятор!D26>2650,калькулятор!E26<=850),калькулятор!D26<2650),\"1\",\"2\")*1","v":1},"без вставки"]
[4,"Matti M.Beige",13027,"Matti M.Beige","M_Mb",null,"другой цвет",null,null,null,null,null,"сверху",null,"высокая справа",4,null,null,"другой","х",null,null,null,null,null,"скрытая",null,2,"левый фасад",null,{"$f":"IF(IF(OR(калькулятор!D27>3000,калькулятор!E27>600),\"*\")=\"*\",\"7\",VLOOKUP(CONCATENATE(калькулятор!I27,\" \",калькулятор!K27),список!$O$3:$P$8,2,0))*1","v":{"$error":"#N/A"}},null,null,2,"комбинированная",{"$f":"IF(OR(AND(калькулятор!D27>2650,калькулятор!E27<=850),калькулятор!D27<2650),\"1\",\"2\")*1","v":1}]
[5,"Vicenza Dk.Beige",13016,"Vicenza Dk.Beige","V_Db",null,null,null,null,null,null,null,"снизу",null,"высокая сверху",5,null,null,null,null,null,null,null,null,null,"скрытая",null,2,"правый фасад",null,{"$f":"IF(IF(OR(калькулятор!D28>3000,калькулятор!E28>600),\"*\")=\"*\",\"7\",VLOOKUP(CONCATENATE(калькулятор!I28,\" \",калькулятор!K28),список!$O$3:$P$8,2,0))*1","v":{"$error":"#N/A"}},null,null,2,"без вставки",{"$f":"IF(OR(AND(калькулятор!D28>2650,калькулятор!E28<=850),калькулятор!D28<2650),\"1\",\"2\")*1","v":1}]
[6,"Vicenza Beige",13015,"Vicenza Beige","V_Bg",null,null,null,null,null,null,null,null,null,"высокая снизу",6,null,null,null,null,null,null,null,null,null,"скрытая",null,2,"другой/без присадок",null,{"$f":"IF(IF(OR(калькулятор!D29>3000,калькулятор!E29>600),\"*\")=\"*\",\"7\",VLOOKUP(CONCATENATE(калькулятор!I29,\" \",калькулятор!K29),список!$O$3:$P$8,2,0))*1","v":{"$error":"#N/A"}},null,null,null,null,{"$f":"IF(OR(AND(калькулятор!D29>2650,калькулятор!E29<=850),калькулятор!D29<2650),\"1\",\"2\")*1","v":1}]
[7,"Matti Peach",13033,"Matti Peach","M_Pe",null,null,null,null,null,null,null,null,null,null,null,null,null,null,null,null,null,null,null,null,"высокая","слева",3,"правый фасад",null,{"$f":"IF(IF(OR(калькулятор!D30>3000,калькулятор!E30>600),\"*\")=\"*\",\"7\",VLOOKUP(CONCATENATE(калькулятор!I30,\" \",калькулятор!K30),список!$O$3:$P$8,2,0))*1","v":{"$error":"#N/A"}},null,null,null,null,{"$f":"IF(OR(AND(калькулятор!D30>2650,калькулятор!E30<=850),калькулятор!D30<2650),\"1\",\"2\")*1","v":1}]
[8,"Matti Olive",13032,"Matti Olive","M_Ol",null,null,null,null,null,null,null,null,null,null,null,null,null,null,null,null,null,null,null,null,"высокая","слева",3,"другой/без присадок",null,{"$f":"IF(IF(OR(калькулятор!D31>3000,калькулятор!E31>600),\"*\")=\"*\",\"7\",VLOOKUP(CONCATENATE(калькулятор!I31,\" \",калькулятор!K31),список!$O$3:$P$8,2,0))*1","v":{"$error":"#N/A"}},null,null,null,null,{"$f":"IF(OR(AND(калькулятор!D31>2650,калькулятор!E31<=850),калькулятор!D31<2650),\"1\",\"2\")*1","v":1}]
[9,"Matti Mehandi",13028,"Matti Mehandi","M_Mh",null,null,null,null,null,null,null,null,null,null,null,null,null,null,null,null,null,null,null,null,"высокая","справа",4,"левый фасад",null,{"$f":"IF(IF(OR(калькулятор!D32>3000,калькулятор!E32>600),\"*\")=\"*\",\"7\",VLOOKUP(CONCATENATE(калькулятор!I32,\" \",калькулятор!K32),список!$O$3:$P$8,2,0))*1","v":{"$error":"#N/A"}},null,null,null,null,{"$f":"IF(OR(AND(калькулятор!D32>2650,калькулятор!E32<=850),калькулятор!D32<2650),\"1\",\"2\")*1","v":1}]
[10,"Matti Green",13025,"Matti Green","M_Gn",null,null,null,null,null,null,null,null,null,null,null,null,null,null,null,null,null,null,null,null,"высокая","справа",4,"другой/без присадок",null,{"$f":"IF(IF(OR(калькулятор!D33>3000,калькулятор!E33>600),\"*\")=\"*\",\"7\",VLOOKUP(CONCATENATE(калькулятор!I33,\" \",калькулятор!K33),список!$O$3:$P$8,2,0))*1","v":{"$error":"#N/A"}},null,null,null,null,{"$f":"IF(OR(AND(калькулятор!D33>2650,калькулятор!E33<=850),калькулятор!D33<2650),\"1\",\"2\")*1","v":1}]
[11,"Matti Aquamarine",13014,"Matti Aquamarine","M_Aq",null,null,null,null,null,null,null,null,null,null,null,null,null,null,null,null,null,null,null,null,"высокая","сверху",5,"левый фасад",null,{"$f":"IF(IF(OR(калькулятор!D34>3000,калькулятор!E34>600),\"*\")=\"*\",\"7\",VLOOKUP(CONCATENATE(калькулятор!I34,\" \",калькулятор!K34),список!$O$3:$P$8,2,0))*1","v":{"$error":"#N/A"}},null,null,null,null,{"$f":"IF(OR(AND(калькулятор!D34>2650,калькулятор!E34<=850),калькулятор!D34<2650),\"1\",\"2\")*1","v":1}]
[12,"Matti R.Blue",13034,"Matti R.Blue","M_RB",null,null,null,null,null,null,null,null,null,null,null,null,null,null,null,null,null,null,null,null,"высокая","сверху",5,"правый фасад",null,{"$f":"IF(IF(OR(калькулятор!D35>3000,калькулятор!E35>600),\"*\")=\"*\",\"7\",VLOOKUP(CONCATENATE(калькулятор!I35,\" \",калькулятор!K35),список!$O$3:$P$8,2,0))*1","v":{"$error":"#N/A"}},null,null,null,null,{"$f":"IF(OR(AND(калькулятор!D35>2650,калькулятор!E35<=850),калькулятор!D35<2650),\"1\",\"2\")*1","v":1}]
[13,"Matti Navy Blue",13029,"Matti Navy Blue","M_NB",null,null,null,null,null,null,null,null,null,null,null,null,null,null,null,null,null,null,null,null,"высокая","сверху",5,"другой/без присадок",null,{"$f":"IF(IF(OR(калькулятор!D36>3000,калькулятор!E36>600),\"*\")=\"*\",\"7\",VLOOKUP(CONCATENATE(калькулятор!I36,\" \",калькулятор!K36),список!$O$3:$P$8,2,0))*1","v":{"$error":"#N/A"}},null,null,null,null,{"$f":"IF(OR(AND(калькулятор!D36>2650,калькулятор!E36<=850),калькулятор!D36<2650),\"1\",\"2\")*1","v":1}]
[14,"Matti Red",13035,"Matti Red","M_Rd",null,null,null,null,null,null,null,null,null,null,null,null,null,null,null,null,null,null,null,null,"высокая","снизу",6,"левый фасад",null,{"$f":"IF(IF(OR(калькулятор!D37>3000,калькулятор!E37>600),\"*\")=\"*\",\"7\",VLOOKUP(CONCATENATE(калькулятор!I37,\" \",калькулятор!K37),список!$O$3:$P$8,2,0))*1","v":{"$error":"#N/A"}},null,null,null,null,{"$f":"IF(OR(AND(калькулятор!D37>2650,калькулятор!E37<=850),калькулятор!D37<2650),\"1\",\"2\")*1","v":1}]
[15,"Matti Bordo",13021,"Matti Bordo","M_Bd",null,null,null,null,null,null,null,null,null,null,null,null,null,null,null,null,null,null,null,null,"высокая","снизу",6,"правый фасад",null,{"$f":"IF(IF(OR(калькулятор!D38>3000,калькулятор!E38>600),\"*\")=\"*\",\"7\",VLOOKUP(CONCATENATE(калькулятор!I38,\" \",калькулятор!K38),список!$O$3:$P$8,2,0))*1","v":{"$error":"#N/A"}},null,null,null,null,{"$f":"IF(OR(AND(калькулятор!D38>2650,калькулятор!E38<=850),калькулятор!D38<2650),\"1\",\"2\")*1","v":1}]
[16,"Matti Tan",13036,"Matti Tan","M_Tn",null,null,null,null,null,null,null,null,null,null,null,null,null,null,null,null,null,null,null,null,"высокая","снизу",6,"другой/без присадок"]
[17,"Vicenza Tan",13045,"Vicenza Tan","V_Tn",null,null,null,null,null,null,null,null,null,null,null,null,null,null,null,null,null,null,null,"если или высота>3000 или ширина>600",null,null,7,"другой/без присадок"]
[18,"Matti Lt.Brown",13026,"Matti Lt.Brown","M_LB"]
[19,"Matti Dk.Brown",13024,"Matti Dk.Brown","M_DB"]
[20,"Vicenza Steel Grey",13017,"Vicenza Steel Grey","V_SG"]
[21,"Auto Grey",13012,"Auto Grey","A_Gr",null,null,null,null,null,null,null,null,null,null,null,null,null,null,null,null,null,null,null,"длина",2650,"от 2650 до2990","от 2650 до 2990"]
[22,"Vicenza Dk.Grey",13018,"Vicenza Dk.Grey","V_DG",null,null,null,null,null,null,null,null,null,null,null,null,null,null,null,null,null,null,null,"ширина","любая","любая","до 850"]
[23,"Auto Dk.Grey",13011,"Auto Dk.Grey","A_DG",null,null,null,null,null,null,null,null,null,null,null,null,null,null,null,null,null,null,null,null,"без вставки","без вставки","без вставки"]
[24,"Matti Black",13020,"Matti Black","M_Bl",null,null,null,null,null,null,null,null,null,null,null,null,null,null,null,null,null,null,null,null,"стандартная",null,"стандартная"]
[null,"другой",null,"другой","хххх",null,null,null,null,null,null,null,null,null,null,null,null,null,null,null,null,null,null,null,null,"комбинированная","комбинированная","комбинированная"]
[null,null,null,null,"----",null,null,null,null,null,null,null,null,null,null,null,null,null,null,null,null,null,null,null,null,1,2,1]

{"sheet":"Лист1","index":2,"n_rows":0,"n_cols":0,"rows_kept":0,"cut":false,"hidden":true,"merged":[]}

{"sheet":"форма заказа","index":3,"n_rows":38,"n_cols":23,"rows_kept":38,"cut":false,"hidden":false,"merged":[[17,13,17,19],[18,13,18,18],[18,19,19,19],[7,1,11,5],[17,1,18,12]]}
[]
[null,"№ счета в 1с:"]
[null,"Заказчик:"]
[null,"Дата составления заказа:"]
[null,"Дата согласования заказа:"]
[]
[null,"ПРИМЕЧАНИЕ К ЗАКАЗУ:"]
[]
[]
[]
[]
[]
[]
[]
[]
[]
[]
[null,"Внимание! для крепления фасадов всегда необходимы присадки (ящики, шкафы купе и др.), \nпри размещении заказа приложите чертеж с указанием места расположения присадок",null,null,null,null,null,null,null,null,null,null,null,"заполните   расстояние до центра чашечки петли Ø 35 мм"]
[null,null,null,null,null,null,null,null,null,null,null,null,null,"от низа фасада, мм",null,null,null,null,null,"от края фасада, мм"]
[null,"№","высота фасада, мм","ширина фасада, мм","тип профиля Laconic-s","цвет профиля","положение высокой ручки","тип вставки","вставка лицевая\n(кожа)","прошивка \n(цвет нитки)","вставка тыльная\n (кожа)","тип фасада","кол-во присадок под петли","до n1","до n2","до n3","до n4","до n5","до n6",null,"наличие закладной",null,"кол-во фасадов, шт."]
[null,1,{"$f":"калькулятор!D24","v":0},{"$f":"калькулятор!E24","v":0},{"$f":"калькулятор!I24","v":0},{"$f":"калькулятор!G24","v":0},{"$f":"калькулятор!K24","v":0},{"$f":"калькулятор!R24","v":0},{"$f":"IF(H21=\"без вставки\",\"х\",калькулятор!V24)","v":0},{"$f":"IF(AND(калькулятор!X24=\"\",OR(калькулятор!R24=\"комбинированная\",калькулятор!R24=\"стандартная\")),\"без прошивки\",IF(I21=\"х\",\"х\",калькулятор!X24))","v":0},{"$f":"I21","v":0},{"$f":"IF(W21<>0,IF(калькулятор!M24=\"левый фасад\",\"левый\",IF(калькулятор!M24=\"правый фасад\",\"правый\",\"другой\")),\"\")","v":""},{"$f":"калькулятор!N24","v":""},null,null,null,null,null,null,{"$f":"IF(AND(W21>0,M21>0),23.5,\"\")","v":""},{"$f":"IF(W21<>0,IF(калькулятор!P24=\"да\",\"+\",\"-\"),\"\")","v":""},{"$f":"IF(W21<>0,IF(калькулятор!T24=\"да\",\"+\",\"-\"),\"\")","v":""},{"$f":"калькулятор!Z24","v":0}]
[null,2,{"$f":"калькулятор!D25","v":0},{"$f":"калькулятор!E25","v":0},{"$f":"калькулятор!I25","v":0},{"$f":"калькулятор!G25","v":0},{"$f":"калькулятор!K25","v":0},{"$f":"калькулятор!R25","v":0},{"$f":"IF(H22=\"без вставки\",\"х\",калькулятор!V25)","v":0},{"$f":"IF(AND(калькулятор!X25=\"\",OR(калькулятор!R25=\"комбинированная\",калькулятор!R25=\"стандартная\")),\"без прошивки\",IF(I22=\"х\",\"х\",калькулятор!X25))","v":0},{"$f":"I22","v":0},{"$f":"IF(W22<>0,IF(калькулятор!M25=\"левый фасад\",\"левый\",IF(калькулятор!M25=\"правый фасад\",\"правый\",\"другой\")),\"\")","v":""},{"$f":"калькулятор!N25","v":""},null,null,null,null,null,null,{"$f":"IF(AND(W22>0,M22>0),23.5,\"\")","v":""},{"$f":"IF(W22<>0,IF(калькулятор!P25=\"да\",\"+\",\"-\"),\"\")","v":""},{"$f":"IF(W22<>0,IF(калькулятор!T25=\"да\",\"+\",\"-\"),\"\")","v":""},{"$f":"калькулятор!Z25","v":0}]
[null,3,{"$f":"калькулятор!D26","v":0},{"$f":"калькулятор!E26","v":0},{"$f":"калькулятор!I26","v":0},{"$f":"калькулятор!G26","v":0},{"$f":"калькулятор!K26","v":0},{"$f":"калькулятор!R26","v":0},{"$f":"IF(H23=\"без вставки\",\"х\",калькулятор!V26)","v":0},{"$f":"IF(AND(калькулятор!X26=\"\",OR(калькулятор!R26=\"комбинированная\",калькулятор!R26=\"стандартная\")),\"без прошивки\",IF(I23=\"х\",\"х\",калькулятор!X26))","v":0},0,{"$f":"IF(W23<>0,IF(калькулятор!M26=\"левый фасад\",\"левый\",IF(калькулятор!M26=\"правый фасад\",\"правый\",\"другой\")),\"\")","v":""},{"$f":"калькулятор!N26","v":""},null,null,null,null,null,null,"",{"$f":"IF(W23<>0,IF(калькулятор!P26=\"да\",\"+\",\"-\"),\"\")","v":""},{"$f":"IF(W23<>0,IF(калькулятор!T26=\"да\",\"+\",\"-\"),\"\")","v":""},{"$f":"калькулятор!Z26","v":0}]
[null,4,{"$f":"калькулятор!D27","v":0},{"$f":"калькулятор!E27","v":0},{"$f":"калькулятор!I27","v":0},{"$f":"калькулятор!G27","v":0},{"$f":"калькулятор!K27","v":0},{"$f":"калькулятор!R27","v":0},{"$f":"IF(H24=\"без вставки\",\"х\",калькулятор!V27)","v":0},{"$f":"IF(AND(калькулятор!X27=\"\",OR(калькулятор!R27=\"комбинированная\",калькулятор!R27=\"стандартная\")),\"без прошивки\",IF(I24=\"х\",\"х\",калькулятор!X27))","v":0},0,{"$f":"IF(W24<>0,IF(калькулятор!M27=\"левый фасад\",\"левый\",IF(калькулятор!M27=\"правый фасад\",\"правый\",\"другой\")),\"\")","v":""},{"$f":"калькулятор!N27","v":""},null,null,null,null,null,null,"",{"$f":"IF(W24<>0,IF(калькулятор!P27=\"да\",\"+\",\"-\"),\"\")","v":""},{"$f":"IF(W24<>0,IF(калькулятор!T27=\"да\",\"+\",\"-\"),\"\")","v":""},{"$f":"калькулятор!Z27","v":0}]
[null,5,{"$f":"калькулятор!D28","v":0},{"$f":"калькулятор!E28","v":0},{"$f":"калькулятор!I28","v":0},{"$f":"калькулятор!G28","v":0},{"$f":"калькулятор!K28","v":0},{"$f":"калькулятор!R28","v":0},{"$f":"IF(H25=\"без вставки\",\"х\",калькулятор!V28)","v":0},{"$f":"IF(AND(калькулятор!X28=\"\",OR(калькулятор!R28=\"комбинированная\",калькулятор!R28=\"стандартная\")),\"без прошивки\",IF(I25=\"х\",\"х\",калькулятор!X28))","v":0},0,{"$f":"IF(W25<>0,IF(калькулятор!M28=\"левый фасад\",\"левый\",IF(калькулятор!M28=\"правый фасад\",\"правый\",\"другой\")),\"\")","v":""},{"$f":"калькулятор!N28","v":""},null,null,null,null,null,null,"",{"$f":"IF(W25<>0,IF(калькулятор!P28=\"да\",\"+\",\"-\"),\"\")","v":""},{"$f":"IF(W25<>0,IF(калькулятор!T28=\"да\",\"+\",\"-\"),\"\")","v":""},{"$f":"калькулятор!Z28","v":0}]
[null,6,{"$f":"калькулятор!D29","v":0},{"$f":"калькулятор!E29","v":0},{"$f":"калькулятор!I29","v":0},{"$f":"калькулятор!G29","v":0},{"$f":"калькулятор!K29","v":0},{"$f":"калькулятор!R29","v":0},{"$f":"IF(H26=\"без вставки\",\"х\",калькулятор!V29)","v":0},{"$f":"IF(AND(калькулятор!X29=\"\",OR(калькулятор!R29=\"комбинированная\",калькулятор!R29=\"стандартная\")),\"без прошивки\",IF(I26=\"х\",\"х\",калькулятор!X29))","v":0},0,{"$f":"IF(W26<>0,IF(калькулятор!M29=\"левый фасад\",\"левый\",IF(калькулятор!M29=\"правый фасад\",\"правый\",\"другой\")),\"\")","v":""},{"$f":"калькулятор!N29","v":""},null,null,null,null,null,null,"",{"$f":"IF(W26<>0,IF(калькулятор!P29=\"да\",\"+\",\"-\"),\"\")","v":""},{"$f":"IF(W26<>0,IF(калькулятор!T29=\"да\",\"+\",\"-\"),\"\")","v":""},{"$f":"калькулятор!Z29","v":0}]
[null,7,{"$f":"калькулятор!D30","v":0},{"$f":"калькулятор!E30","v":0},{"$f":"калькулятор!I30","v":0},{"$f":"калькулятор!G30","v":0},{"$f":"калькулятор!K30","v":0},{"$f":"калькулятор!R30","v":0},{"$f":"IF(H27=\"без вставки\",\"х\",калькулятор!V30)","v":0},{"$f":"IF(AND(калькулятор!X30=\"\",OR(калькулятор!R30=\"комбинированная\",калькулятор!R30=\"стандартная\")),\"без прошивки\",IF(I27=\"х\",\"х\",калькулятор!X30))","v":0},0,{"$f":"IF(W27<>0,IF(калькулятор!M30=\"левый фасад\",\"левый\",IF(калькулятор!M30=\"правый фасад\",\"правый\",\"другой\")),\"\")","v":""},{"$f":"калькулятор!N30","v":""},null,null,null,null,null,null,"",{"$f":"IF(W27<>0,IF(калькулятор!P30=\"да\",\"+\",\"-\"),\"\")","v":""},{"$f":"IF(W27<>0,IF(калькулятор!T30=\"да\",\"+\",\"-\"),\"\")","v":""},{"$f":"калькулятор!Z30","v":0}]
[null,8,{"$f":"калькулятор!D31","v":0},{"$f":"калькулятор!E31","v":0},{"$f":"калькулятор!I31","v":0},{"$f":"калькулятор!G31","v":0},{"$f":"калькулятор!K31","v":0},{"$f":"калькулятор!R31","v":0},{"$f":"IF(H28=\"без вставки\",\"х\",калькулятор!V31)","v":0},{"$f":"IF(AND(калькулятор!X31=\"\",OR(калькулятор!R31=\"комбинированная\",калькулятор!R31=\"стандартная\")),\"без прошивки\",IF(I28=\"х\",\"х\",калькулятор!X31))","v":0},0,{"$f":"IF(W28<>0,IF(калькулятор!M31=\"левый фасад\",\"левый\",IF(калькулятор!M31=\"правый фасад\",\"правый\",\"другой\")),\"\")","v":""},{"$f":"калькулятор!N31","v":""},null,null,null,null,null,null,"",{"$f":"IF(W28<>0,IF(калькулятор!P31=\"да\",\"+\",\"-\"),\"\")","v":""},{"$f":"IF(W28<>0,IF(калькулятор!T31=\"да\",\"+\",\"-\"),\"\")","v":""},{"$f":"калькулятор!Z31","v":0}]
[null,9,{"$f":"калькулятор!D32","v":0},{"$f":"калькулятор!E32","v":0},{"$f":"калькулятор!I32","v":0},{"$f":"калькулятор!G32","v":0},{"$f":"калькулятор!K32","v":0},{"$f":"калькулятор!R32","v":0},{"$f":"IF(H29=\"без вставки\",\"х\",калькулятор!V32)","v":0},{"$f":"IF(AND(калькулятор!X32=\"\",OR(калькулятор!R32=\"комбинированная\",калькулятор!R32=\"стандартная\")),\"без прошивки\",IF(I29=\"х\",\"х\",калькулятор!X32))","v":0},0,{"$f":"IF(W29<>0,IF(калькулятор!M32=\"левый фасад\",\"левый\",IF(калькулятор!M32=\"правый фасад\",\"правый\",\"другой\")),\"\")","v":""},{"$f":"калькулятор!N32","v":""},null,null,null,null,null,null,"",{"$f":"IF(W29<>0,IF(калькулятор!P32=\"да\",\"+\",\"-\"),\"\")","v":""},{"$f":"IF(W29<>0,IF(калькулятор!T32=\"да\",\"+\",\"-\"),\"\")","v":""},{"$f":"калькулятор!Z32","v":0}]
[null,10,{"$f":"калькулятор!D33","v":0},{"$f":"калькулятор!E33","v":0},{"$f":"калькулятор!I33","v":0},{"$f":"калькулятор!G33","v":0},{"$f":"калькулятор!K33","v":0},{"$f":"калькулятор!R33","v":0},{"$f":"IF(H30=\"без вставки\",\"х\",калькулятор!V33)","v":0},{"$f":"IF(AND(калькулятор!X33=\"\",OR(калькулятор!R33=\"комбинированная\",калькулятор!R33=\"стандартная\")),\"без прошивки\",IF(I30=\"х\",\"х\",калькулятор!X33))","v":0},0,{"$f":"IF(W30<>0,IF(калькулятор!M33=\"левый фасад\",\"левый\",IF(калькулятор!M33=\"правый фасад\",\"правый\",\"другой\")),\"\")","v":""},{"$f":"калькулятор!N33","v":""},null,null,null,null,null,null,"",{"$f":"IF(W30<>0,IF(калькулятор!P33=\"да\",\"+\",\"-\"),\"\")","v":""},{"$f":"IF(W30<>0,IF(калькулятор!T33=\"да\",\"+\",\"-\"),\"\")","v":""},{"$f":"калькулятор!Z33","v":0}]
[null,11,{"$f":"калькулятор!D34","v":0},{"$f":"калькулятор!E34","v":0},{"$f":"калькулятор!I34","v":0},{"$f":"калькулятор!G34","v":0},{"$f":"калькулятор!K34","v":0},{"$f":"калькулятор!R34","v":0},{"$f":"IF(H31=\"без вставки\",\"х\",калькулятор!V34)","v":0},{"$f":"IF(AND(калькулятор!X34=\"\",OR(калькулятор!R34=\"комбинированная\",калькулятор!R34=\"стандартная\")),\"без прошивки\",IF(I31=\"х\",\"х\",калькулятор!X34))","v":0},0,{"$f":"IF(W31<>0,IF(калькулятор!M34=\"левый фасад\",\"левый\",IF(калькулятор!M34=\"правый фасад\",\"правый\",\"другой\")),\"\")","v":""},{"$f":"калькулятор!N34","v":""},null,null,null,null,null,null,"",{"$f":"IF(W31<>0,IF(калькулятор!P34=\"да\",\"+\",\"-\"),\"\")","v":""},{"$f":"IF(W31<>0,IF(калькулятор!T34=\"да\",\"+\",\"-\"),\"\")","v":""},{"$f":"калькулятор!Z34","v":0}]
[null,12,{"$f":"калькулятор!D35","v":0},{"$f":"калькулятор!E35","v":0},{"$f":"калькулятор!I35","v":0},{"$f":"калькулятор!G35","v":0},{"$f":"калькулятор!K35","v":0},{"$f":"калькулятор!R35","v":0},{"$f":"IF(H32=\"без вставки\",\"х\",калькулятор!V35)","v":0},{"$f":"IF(AND(калькулятор!X35=\"\",OR(калькулятор!R35=\"комбинированная\",калькулятор!R35=\"стандартная\")),\"без прошивки\",IF(I32=\"х\",\"х\",калькулятор!X35))","v":0},0,{"$f":"IF(W32<>0,IF(калькулятор!M35=\"левый фасад\",\"левый\",IF(калькулятор!M35=\"правый фасад\",\"правый\",\"другой\")),\"\")","v":""},{"$f":"калькулятор!N35","v":""},null,null,null,null,null,null,"",{"$f":"IF(W32<>0,IF(калькулятор!P35=\"да\",\"+\",\"-\"),\"\")","v":""},{"$f":"IF(W32<>0,IF(калькулятор!T35=\"да\",\"+\",\"-\"),\"\")","v":""},{"$f":"калькулятор!Z35","v":0}]
[null,13,{"$f":"калькулятор!D36","v":0},{"$f":"калькулятор!E36","v":0},{"$f":"калькулятор!I36","v":0},{"$f":"калькулятор!G36","v":0},{"$f":"калькулятор!K36","v":0},{"$f":"калькулятор!R36","v":0},{"$f":"IF(H33=\"без вставки\",\"х\",калькулятор!V36)","v":0},{"$f":"IF(AND(калькулятор!X36=\"\",OR(калькулятор!R36=\"комбинированная\",калькулятор!R36=\"стандартная\")),\"без прошивки\",IF(I33=\"х\",\"х\",калькулятор!X36))","v":0},0,{"$f":"IF(W33<>0,IF(калькулятор!M36=\"левый фасад\",\"левый\",IF(калькулятор!M36=\"правый фасад\",\"правый\",\"другой\")),\"\")","v":""},{"$f":"калькулятор!N36","v":""},null,null,null,null,null,null,"",{"$f":"IF(W33<>0,IF(калькулятор!P36=\"да\",\"+\",\"-\"),\"\")","v":""},{"$f":"IF(W33<>0,IF(калькулятор!T36=\"да\",\"+\",\"-\"),\"\")","v":""},{"$f":"калькулятор!Z36","v":0}]
[null,14,{"$f":"калькулятор!D37","v":0},{"$f":"калькулятор!E37","v":0},{"$f":"калькулятор!I37","v":0},{"$f":"калькулятор!G37","v":0},{"$f":"калькулятор!K37","v":0},{"$f":"калькулятор!R37","v":0},{"$f":"IF(H34=\"без вставки\",\"х\",калькулятор!V37)","v":0},{"$f":"IF(AND(калькулятор!X37=\"\",OR(калькулятор!R37=\"комбинированная\",калькулятор!R37=\"стандартная\")),\"без прошивки\",IF(I34=\"х\",\"х\",калькулятор!X37))","v":0},0,{"$f":"IF(W34<>0,IF(калькулятор!M37=\"левый фасад\",\"левый\",IF(калькулятор!M37=\"правый фасад\",\"правый\",\"другой\")),\"\")","v":""},{"$f":"калькулятор!N37","v":""},null,null,null,null,null,null,"",{"$f":"IF(W34<>0,IF(калькулятор!P37=\"да\",\"+\",\"-\"),\"\")","v":""},{"$f":"IF(W34<>0,IF(калькулятор!T37=\"да\",\"+\",\"-\"),\"\")","v":""},{"$f":"калькулятор!Z37","v":0}]
[null,15,{"$f":"калькулятор!D38","v":0},{"$f":"калькулятор!E38","v":0},{"$f":"калькулятор!I38","v":0},{"$f":"калькулятор!G38","v":0},{"$f":"калькулятор!K38","v":0},{"$f":"калькулятор!R38","v":0},{"$f":"IF(H35=\"без вставки\",\"х\",калькулятор!V38)","v":0},{"$f":"IF(AND(калькулятор!X38=\"\",OR(калькулятор!R38=\"комбинированная\",калькулятор!R38=\"стандартная\")),\"без прошивки\",IF(I35=\"х\",\"х\",калькулятор!X38))","v":0},0,{"$f":"IF(W35<>0,IF(калькулятор!M38=\"левый фасад\",\"левый\",IF(калькулятор!M38=\"правый фасад\",\"правый\",\"другой\")),\"\")","v":""},{"$f":"калькулятор!N38","v":""},null,null,null,null,null,null,"",{"$f":"IF(W35<>0,IF(калькулятор!P38=\"да\",\"+\",\"-\"),\"\")","v":""},{"$f":"IF(W35<>0,IF(калькулятор!T38=\"да\",\"+\",\"-\"),\"\")","v":""},{"$f":"калькулятор!Z38","v":0}]
[null,null,null,null,null,null,null,null,null,null,null,null,null,null,null,null,null,null,null,null,null,null,{"$f":"CONCATENATE(SUM(W21:W35),\" шт.\")","v":"0 шт."}]
[null,"Электронное согласование:"]
[null,null,null,null,null,"должность",null,null,null,null,null,"ФИО"]

{"sheet":"распил","index":4,"n_rows":104,"n_cols":52,"rows_kept":104,"cut":false,"hidden":true,"merged":[[100,21,100,22],[101,21,101,22],[102,21,102,22],[95,21,95,22],[96,21,96,22],[97,21,97,22],[98,21,98,22],[99,21,99,22],[99,23,99,24],[100,23,100,24],[101,23,101,24],[102,23,102,24],[98,25,98,26],[99,25,99,26],[100,25,100,26],[101,25,101,26],[102,25,102,26],[2,5,6,9],[95,25,95,26],[96,25,96,26],[97,25,97,26],[98,23,98,24],[97,23,97,24],[94,25,94,26],[94,21,94,22],[92,23,93,26],[94,23,94,24],[95,23,95,24],[96,23,96,24],[92,8,93,8],[9,45,9,47],[2,2,2,3],[3,2,3,3],[4,2,4,3],[5,2,5,3],[6,2,6,3],[9,4,9,5],[9,7,9,8],[9,10,9,11],[9,19,10,19],[9,20,10,20],[8,12,9,17],[8,19,8,27],[9,21,9,26],[9,36,9,38],[9,39,9,41],[9,42,9,44],[92,19,93,19],[92,9,93,18],[92,20,92,22],[93,21,93,22],[9,27,10,27],[94,1,94,3],[96,1,96,3],[97,1,97,3],[98,1,98,3],[92,7,93,7]]}
[]
[null,null,null,null,null,"ПРИМЕЧАНИЕ К ЗАКАЗУ:"]
[null,null,"№ счета в 1с:",null,{"$f":"'форма заказа'!E2","v":0},{"$f":"'форма заказа'!B8","v":0}]
[null,null,"Заказчик:",null,{"$f":"'форма заказа'!E3","v":0}]
[null,null,"Дата составления заказа:",null,{"$f":"'форма заказа'!E4","v":"00:00:00"}]
[null,null,"Дата согласования заказа:",null,{"$f":"'форма заказа'!E5","v":"00:00:00"}]
[null,null,"Дата выполнения заказа:",null,{"$f":"E6+17","v":"1900-01-17"}]
[]
[null,null,null,null,null,null,null,null,null,null,null,null,"вставка",null,null,null,null,null,null,"присадки"]
[null,null,null,null,"вид профиля",null,null,"вид профиля",null,null,"размеры заготовок, мм",null,null,null,null,null,null,null,null,"расположение присадок (по какой стороне)","кол-во присадок, шт.","расстояние до центра чашечки петли от низа ",null,null,null,null,null,"от края до центра чашечки петли",null,null,null,null,null,null,null,null,"A (слева)",null,null,"B (сверху)",null,null,"C (справа)",null,null,"D (снизу)"]
[null,null,"цвет профиля","высота фасада, мм","слева A","справа С","ширина фасада, мм","сверху B","снизу D","кол-во фасадов, шт.","высота A-C","ширина B-D","высота, мм","ширина, мм","основа","кожа лицевая сторона","прошивка (цвет нитки)","кожа оборотная сторона","закладная",null,null,"до n1","до n2","до n3","до n4","до n5","до n6",null,null,"тип профиля Laconic-S","положение \nвысокой ручки","высота \nфасада, мм","ширина \nфасада, мм","кол-во фасадов","тип фасада","закладная","тип профиля","размер","р-р*кол-во","тип профиля","размер","р-р*кол-во","тип профиля","размер","р-р*кол-во","тип профиля","размер","р-р*кол-во","высота вставки, мм","ширина вставки, мм","пенолин","картон"]
[null,1,{"$f":"'форма заказа'!F21","v":0},{"$f":"'форма заказа'!C21","v":0},{"$f":"AK12","v":""},{"$f":"AQ12","v":""},{"$f":"'форма заказа'!D21","v":0},{"$f":"AN12","v":""},{"$f":"AT12","v":""},{"$f":"AH12","v":0},{"$f":"AL12","v":0},{"$f":"AO12","v":0},{"$f":"IF('форма заказа'!H21=\"без вставки\",\"х\",AW12)","v":""},{"$f":"IF('форма заказа'!H21=\"без вставки\",\"х\",AX12)","v":""},{"$f":"IF('форма заказа'!H21=\"без вставки\",\"х\",IF('форма заказа'!V21=\"+\",\"ПВХ\",IF('форма заказа'!V21=\"-\",\"ХДФ\",\"\")))","v":""},{"$f":"'форма заказа'!I21","v":0},{"$f":"'форма заказа'!J21","v":0},{"$f":"'форма заказа'!K21","v":0},{"$f":"AJ12","v":""},{"$f":"IF(J12<>0,IF(AI12=\"левый\",\"A\",IF(AI12=\"правый\",\"C\",\"х\")),\"\")","v":""},{"$f":"IF($T12=\"х\",\"х\",'форма заказа'!M21)","v":""},{"$f":"IF($T12=\"х\",\"х\",'форма заказа'!N21)","v":0},{"$f":"IF($T12=\"х\",\"х\",'форма заказа'!O21)","v":0},{"$f":"IF($T12=\"х\",\"х\",'форма заказа'!P21)","v":0},{"$f":"IF($T12=\"х\",\"х\",'форма заказа'!Q21)","v":0},{"$f":"IF($T12=\"х\",\"х\",'форма заказа'!R21)","v":0},{"$f":"IF($T12=\"х\",\"х\",'форма заказа'!S21)","v":0},{"$f":"IF($T12=\"х\",\"х\",'форма заказа'!T21)","v":""},null,{"$f":"IF(AH12<>0,IF('форма заказа'!E21=\"прямой\",\"прямой профиль\",IF('форма заказа'!E21=\"скрытая\",\"скрытая ручка\",IF('форма заказа'!E21=\"высокая\",\"высокая ручка\"))),\"\")","v":""},{"$f":"'форма заказа'!G21","v":0},{"$f":"'форма заказа'!C21","v":0},{"$f":"'форма заказа'!D21","v":0},{"$f":"'форма заказа'!W21","v":0},{"$f":"'форма заказа'!L21","v":""},{"$f":"'форма заказа'!U21","v":""},{"$f":"IF($AD12<>\"высокая ручка\",$AD12,IF(AND($AD12=\"высокая ручка\",$AE12=\"слева\"),$AD12,\"скрытая ручка\"))","v":""},{"$f":"IFERROR(IF(OR($AD12=\"прямой профиль\",$AD12=\"скрытая ручка\"),AF12,IF(AND($AD12=\"высокая ручка\",OR($AE12=\"сверху\",$AE12=\"снизу\")),AF12-27,AF12*1)),\"\")","v":0},{"$f":"AH12*AL12","v":0},{"$f":"IF($AD12<>\"высокая ручка\",$AD12,IF(AND($AD12=\"высокая ручка\",$AE12=\"сверху\"),$AD12,\"скрытая ручка\"))","v":""},{"$f":"IFERROR(IF(OR($AD12=\"прямой профиль\",$AD12=\"скрытая ручка\"),AG12,IF(AND($AD12=\"высокая ручка\",OR($AE12=\"справа\",$AE12=\"слева\")),AG12-27,AG12*1)),\"\")","v":0},{"$f":"AH12*AO12","v":0},{"$f":"IF($AD12<>\"высокая ручка\",$AD12,IF(AND($AD12=\"высокая ручка\",$AE12=\"справа\"),$AD12,\"скрытая ручка\"))","v":""},{"$f":"IFERROR(IF(OR($AD12=\"прямой профиль\",$AD12=\"скрытая ручка\"),AF12,IF(AND($AD12=\"высокая ручка\",OR($AE12=\"сверху\",$AE12=\"снизу\")),AF12-27,AF12*1)),\"\")","v":0},{"$f":"AH12*AR12","v":0},{"$f":"IF($AD12<>\"высокая ручка\",$AD12,IF(AND($AD12=\"высокая ручка\",$AE12=\"снизу\"),$AD12,\"скрытая ручка\"))","v":""},{"$f":"IFERROR(IF(OR($AD12=\"прямой профиль\",$AD12=\"скрытая ручка\"),AG12,IF(AND($AD12=\"высокая ручка\",OR($AE12=\"справа\",$AE12=\"слева\")),AG12-27,AG12*1)),\"\")","v":0},{"$f":"AH12*AU12","v":0},{"$f":"IF(AH12<>0,IFERROR(IF(OR($AD12=\"прямой профиль\",$AD12=\"скрытая ручка\"),AF12-2.5,IF(AND($AD12=\"высокая ручка\",OR($AE12=\"сверху\",$AE12=\"снизу\")),AF12-29.5,AF12-2.5)),\"\"),\"\")","v":""},{"$f":"IF(AH12<>0,IFERROR(IF(OR($AD12=\"прямой профиль\",$AD12=\"скрытая ручка\"),AG12-2.5,IF(AND($AD12=\"высокая ручка\",OR($AE12=\"справа\",$AE12=\"слева\")),AG12-29.5,AG12-2.5)),\"\"),\"\")","v":""},{"$f":"(AL12+AO12+AR12+AU12)/1000*AH12","v":0},{"$f":"(AF12/1000*(AG12+700)/1000)*2*AH12","v":0}]
[null,2,{"$f":"'форма заказа'!F22","v":0},{"$f":"'форма заказа'!C22","v":0},{"$f":"AK13","v":""},{"$f":"AQ13","v":""},{"$f":"'форма заказа'!D22","v":0},{"$f":"AN13","v":""},{"$f":"AT13","v":""},{"$f":"AH13","v":0},{"$f":"AL13","v":0},{"$f":"AO13","v":0},{"$f":"IF('форма заказа'!H22=\"без вставки\",\"х\",AW13)","v":""},{"$f":"IF('форма заказа'!H22=\"без вставки\",\"х\",AX13)","v":""},{"$f":"IF('форма заказа'!H22=\"без вставки\",\"х\",IF('форма заказа'!V22=\"+\",\"ПВХ\",IF('форма заказа'!V22=\"-\",\"ХДФ\",\"\")))","v":""},{"$f":"'форма заказа'!I22","v":0},{"$f":"'форма заказа'!J22","v":0},{"$f":"'форма заказа'!K22","v":0},{"$f":"AJ13","v":""},"",{"$f":"IF(T13=\"х\",\"х\",'форма заказа'!M22)","v":""},{"$f":"IF($T13=\"х\",\"х\",'форма заказа'!N22)","v":0},{"$f":"IF($T13=\"х\",\"х\",'форма заказа'!O22)","v":0},{"$f":"IF($T13=\"х\",\"х\",'форма заказа'!P22)","v":0},{"$f":"IF($T13=\"х\",\"х\",'форма заказа'!Q22)","v":0},{"$f":"IF($T13=\"х\",\"х\",'форма заказа'!R22)","v":0},{"$f":"IF($T13=\"х\",\"х\",'форма заказа'!S22)","v":0},{"$f":"IF($T13=\"х\",\"х\",'форма заказа'!T22)","v":""},null,{"$f":"IF(AH13<>0,IF('форма заказа'!E22=\"прямой\",\"прямой профиль\",IF('форма заказа'!E22=\"скрытая\",\"скрытая ручка\",IF('форма заказа'!E22=\"высокая\",\"высокая ручка\"))),\"\")","v":""},{"$f":"'форма заказа'!G22","v":0},{"$f":"'форма заказа'!C22","v":0},{"$f":"'форма заказа'!D22","v":0},{"$f":"'форма заказа'!W22","v":0},{"$f":"'форма заказа'!L22","v":""},{"$f":"'форма заказа'!U22","v":""},{"$f":"IF($AD13<>\"высокая ручка\",$AD13,IF(AND($AD13=\"высокая ручка\",$AE13=\"слева\"),$AD13,\"скрытая ручка\"))","v":""},0,{"$f":"AH13*AL13","v":0},{"$f":"IF($AD13<>\"высокая ручка\",$AD13,IF(AND($AD13=\"высокая ручка\",$AE13=\"сверху\"),$AD13,\"скрытая ручка\"))","v":""},0,{"$f":"AH13*AO13","v":0},{"$f":"IF($AD13<>\"высокая ручка\",$AD13,IF(AND($AD13=\"высокая ручка\",$AE13=\"справа\"),$AD13,\"скрытая ручка\"))","v":""},0,{"$f":"AH13*AR13","v":0},{"$f":"IF($AD13<>\"высокая ручка\",$AD13,IF(AND($AD13=\"высокая ручка\",$AE13=\"снизу\"),$AD13,\"скрытая ручка\"))","v":""},0,{"$f":"AH13*AU13","v":0},{"$f":"IF(AH13<>0,IFERROR(IF(OR($AD13=\"прямой профиль\",$AD13=\"скрытая ручка\"),AF13-2.5,IF(AND($AD13=\"высокая ручка\",OR($AE13=\"сверху\",$AE13=\"снизу\")),AF13-29.5,AF13-2.5)),\"\"),\"\")","v":""},{"$f":"IF(AH13<>0,IFERROR(IF(OR($AD13=\"прямой профиль\",$AD13=\"скрытая ручка\"),AG13-2.5,IF(AND($AD13=\"высокая ручка\",OR($AE13=\"справа\",$AE13=\"слева\")),AG13-29.5,AG13-2.5)),\"\"),\"\")","v":""},{"$f":"(AL13+AO13+AR13+AU13)/1000*AH13","v":0},{"$f":"(AF13/1000*(AG13+700)/1000)*2*AH13","v":0}]
[null,3,{"$f":"'форма заказа'!F23","v":0},{"$f":"'форма заказа'!C23","v":0},"","",{"$f":"'форма заказа'!D23","v":0},{"$f":"AN14","v":""},"",0,0,0,{"$f":"IF('форма заказа'!H23=\"без вставки\",\"х\",AW14)","v":""},{"$f":"IF('форма заказа'!H23=\"без вставки\",\"х\",AX14)","v":""},{"$f":"IF('форма заказа'!H23=\"без вставки\",\"х\",IF('форма заказа'!V23=\"+\",\"ПВХ\",IF('форма заказа'!V23=\"-\",\"ХДФ\",\"\")))","v":""},{"$f":"'форма заказа'!I23","v":0},{"$f":"'форма заказа'!J23","v":0},{"$f":"'форма заказа'!K23","v":0},"","",{"$f":"IF(T14=\"х\",\"х\",'форма заказа'!M23)","v":""},{"$f":"IF($T14=\"х\",\"х\",'форма заказа'!N23)","v":0},{"$f":"IF($T14=\"х\",\"х\",'форма заказа'!O23)","v":0},{"$f":"IF($T14=\"х\",\"х\",'форма заказа'!P23)","v":0},{"$f":"IF($T14=\"х\",\"х\",'форма заказа'!Q23)","v":0},{"$f":"IF($T14=\"х\",\"х\",'форма заказа'!R23)","v":0},{"$f":"IF($T14=\"х\",\"х\",'форма заказа'!S23)","v":0},{"$f":"IF($T14=\"х\",\"х\",'форма заказа'!T23)","v":""},null,{"$f":"IF(AH14<>0,IF('форма заказа'!E23=\"прямой\",\"прямой профиль\",IF('форма заказа'!E23=\"скрытая\",\"скрытая ручка\",IF('форма заказа'!E23=\"высокая\",\"высокая ручка\"))),\"\")","v":""},{"$f":"'форма заказа'!G23","v":0},{"$f":"'форма заказа'!C23","v":0},{"$f":"'форма заказа'!D23","v":0},{"$f":"'форма заказа'!W23","v":0},{"$f":"'форма заказа'!L23","v":""},{"$f":"'форма заказа'!U23","v":""},"",0,0,"",0,0,"",0,0,"",0,0,"","",0,0]
[null,4,{"$f":"'форма заказа'!F24","v":0},{"$f":"'форма заказа'!C24","v":0},"","",{"$f":"'форма заказа'!D24","v":0},"","",0,0,0,{"$f":"IF('форма заказа'!H24=\"без вставки\",\"х\",AW15)","v":""},{"$f":"IF('форма заказа'!H24=\"без вставки\",\"х\",AX15)","v":""},{"$f":"IF('форма заказа'!H24=\"без вставки\",\"х\",IF('форма заказа'!V24=\"+\",\"ПВХ\",IF('форма заказа'!V24=\"-\",\"ХДФ\",\"\")))","v":""},{"$f":"'форма заказа'!I24","v":0},{"$f":"'форма заказа'!J24","v":0},{"$f":"'форма заказа'!K25","v":0},"","",{"$f":"IF(T15=\"х\",\"х\",'форма заказа'!M24)","v":""},{"$f":"IF($T15=\"х\",\"х\",'форма заказа'!N24)","v":0},{"$f":"IF($T15=\"х\",\"х\",'форма заказа'!O24)","v":0},{"$f":"IF($T15=\"х\",\"х\",'форма заказа'!P24)","v":0},{"$f":"IF($T15=\"х\",\"х\",'форма заказа'!Q24)","v":0},{"$f":"IF($T15=\"х\",\"х\",'форма заказа'!R24)","v":0},{"$f":"IF($T15=\"х\",\"х\",'форма заказа'!S24)","v":0},{"$f":"IF($T15=\"х\",\"х\",'форма заказа'!T24)","v":""},null,{"$f":"IF(AH15<>0,IF('форма заказа'!E24=\"прямой\",\"прямой профиль\",IF('форма заказа'!E24=\"скрытая\",\"скрытая ручка\",IF('форма заказа'!E24=\"высокая\",\"высокая ручка\"))),\"\")","v":""},{"$f":"'форма заказа'!G24","v":0},{"$f":"'форма заказа'!C24","v":0},{"$f":"'форма заказа'!D24","v":0},{"$f":"'форма заказа'!W24","v":0},{"$f":"'форма заказа'!L24","v":""},{"$f":"'форма заказа'!U24","v":""},"",0,0,"",0,0,"",0,0,"",0,0,"","",0,0]
[null,5,{"$f":"'форма заказа'!F25","v":0},{"$f":"'форма заказа'!C25","v":0},"","",{"$f":"'форма заказа'!D25","v":0},"","",0,{"$f":"AL16","v":0},0,{"$f":"IF('форма заказа'!H25=\"без вставки\",\"х\",AW16)","v":""},{"$f":"IF('форма заказа'!H25=\"без вставки\",\"х\",AX16)","v":""},{"$f":"IF('форма заказа'!H25=\"без вставки\",\"х\",IF('форма заказа'!V25=\"+\",\"ПВХ\",IF('форма заказа'!V25=\"-\",\"ХДФ\",\"\")))","v":""},{"$f":"'форма заказа'!I25","v":0},{"$f":"'форма заказа'!J25","v":0},{"$f":"'форма заказа'!#REF!","v":{"$error":"#REF!"}},"","",{"$f":"IF(T16=\"х\",\"х\",'форма заказа'!M25)","v":""},{"$f":"IF($T16=\"х\",\"х\",'форма заказа'!N25)","v":0},{"$f":"IF($T16=\"х\",\"х\",'форма заказа'!O25)","v":0},{"$f":"IF($T16=\"х\",\"х\",'форма заказа'!P25)","v":0},{"$f":"IF($T16=\"х\",\"х\",'форма заказа'!Q25)","v":0},{"$f":"IF($T16=\"х\",\"х\",'форма заказа'!R25)","v":0},{"$f":"IF($T16=\"х\",\"х\",'форма заказа'!S25)","v":0},{"$f":"IF($T16=\"х\",\"х\",'форма заказа'!T25)","v":""},null,{"$f":"IF(AH16<>0,IF('форма заказа'!E25=\"прямой\",\"прямой профиль\",IF('форма заказа'!E25=\"скрытая\",\"скрытая ручка\",IF('форма заказа'!E25=\"высокая\",\"высокая ручка\"))),\"\")","v":""},{"$f":"'форма заказа'!G25","v":0},{"$f":"'форма заказа'!C25","v":0},{"$f":"'форма заказа'!D25","v":0},{"$f":"'форма заказа'!W25","v":0},{"$f":"'форма заказа'!L25","v":""},{"$f":"'форма заказа'!U25","v":""},"",0,0,"",0,0,"",0,0,"",0,0,"","",0,0]
[null,6,{"$f":"'форма заказа'!F26","v":0},{"$f":"'форма заказа'!C26","v":0},"","",{"$f":"'форма заказа'!D26","v":0},"","",0,0,0,{"$f":"IF('форма заказа'!H26=\"без вставки\",\"х\",AW17)","v":""},{"$f":"IF('форма заказа'!H26=\"без вставки\",\"х\",AX17)","v":""},{"$f":"IF('форма заказа'!H26=\"без вставки\",\"х\",IF('форма заказа'!V26=\"+\",\"ПВХ\",IF('форма заказа'!V26=\"-\",\"ХДФ\",\"\")))","v":""},{"$f":"'форма заказа'!I26","v":0},{"$f":"'форма заказа'!J26","v":0},{"$f":"'форма заказа'!K26","v":0},"","",{"$f":"IF(T17=\"х\",\"х\",'форма заказа'!M26)","v":""},{"$f":"IF($T17=\"х\",\"х\",'форма заказа'!N26)","v":0},{"$f":"IF($T17=\"х\",\"х\",'форма заказа'!O26)","v":0},{"$f":"IF($T17=\"х\",\"х\",'форма заказа'!P26)","v":0},{"$f":"IF($T17=\"х\",\"х\",'форма заказа'!Q26)","v":0},{"$f":"IF($T17=\"х\",\"х\",'форма заказа'!R26)","v":0},{"$f":"IF($T17=\"х\",\"х\",'форма заказа'!S26)","v":0},{"$f":"IF($T17=\"х\",\"х\",'форма заказа'!T26)","v":""},null,{"$f":"IF(AH17<>0,IF('форма заказа'!E26=\"прямой\",\"прямой профиль\",IF('форма заказа'!E26=\"скрытая\",\"скрытая ручка\",IF('форма заказа'!E26=\"высокая\",\"высокая ручка\"))),\"\")","v":""},{"$f":"'форма заказа'!G26","v":0},{"$f":"'форма заказа'!C26","v":0},{"$f":"'форма заказа'!D26","v":0},{"$f":"'форма заказа'!W26","v":0},{"$f":"'форма заказа'!L26","v":""},{"$f":"'форма заказа'!U26","v":""},"",0,0,"",0,0,"",0,0,"",0,0,"","",0,0]
[null,7,{"$f":"'форма заказа'!F27","v":0},{"$f":"'форма заказа'!C27","v":0},"","",{"$f":"'форма заказа'!D27","v":0},"","",0,0,0,{"$f":"IF('форма заказа'!H27=\"без вставки\",\"х\",AW18)","v":""},{"$f":"IF('форма заказа'!H27=\"без вставки\",\"х\",AX18)","v":""},{"$f":"IF('форма заказа'!H27=\"без вставки\",\"х\",IF('форма заказа'!V27=\"+\",\"ПВХ\",IF('форма заказа'!V27=\"-\",\"ХДФ\",\"\")))","v":""},{"$f":"'форма заказа'!I27","v":0},{"$f":"'форма заказа'!J27","v":0},{"$f":"'форма заказа'!K27","v":0},"","",{"$f":"IF(T18=\"х\",\"х\",'форма заказа'!M27)","v":""},{"$f":"IF($T18=\"х\",\"х\",'форма заказа'!N27)","v":0},{"$f":"IF($T18=\"х\",\"х\",'форма заказа'!O27)","v":0},{"$f":"IF($T18=\"х\",\"х\",'форма заказа'!P27)","v":0},{"$f":"IF($T18=\"х\",\"х\",'форма заказа'!Q27)","v":0},{"$f":"IF($T18=\"х\",\"х\",'форма заказа'!R27)","v":0},{"$f":"IF($T18=\"х\",\"х\",'форма заказа'!S27)","v":0},{"$f":"IF($T18=\"х\",\"х\",'форма заказа'!T27)","v":""},null,{"$f":"IF(AH18<>0,IF('форма заказа'!E27=\"прямой\",\"прямой профиль\",IF('форма заказа'!E27=\"скрытая\",\"скрытая ручка\",IF('форма заказа'!E27=\"высокая\",\"высокая ручка\"))),\"\")","v":""},{"$f":"'форма заказа'!G27","v":0},{"$f":"'форма заказа'!C27","v":0},{"$f":"'форма заказа'!D27","v":0},{"$f":"'форма заказа'!W27","v":0},{"$f":"'форма заказа'!L27","v":""},{"$f":"'форма заказа'!U27","v":""},"",0,0,"",0,0,"",0,0,"",0,0,"","",0,0]
[null,8,{"$f":"'форма заказа'!F28","v":0},{"$f":"'форма заказа'!C28","v":0},"","",{"$f":"'форма заказа'!D28","v":0},"","",0,0,0,{"$f":"IF('форма заказа'!H28=\"без вставки\",\"х\",AW19)","v":""},{"$f":"IF('форма заказа'!H28=\"без вставки\",\"х\",AX19)","v":""},{"$f":"IF('форма заказа'!H28=\"без вставки\",\"х\",IF('форма заказа'!V28=\"+\",\"ПВХ\",IF('форма заказа'!V28=\"-\",\"ХДФ\",\"\")))","v":""},{"$f":"'форма заказа'!I28","v":0},{"$f":"'форма заказа'!J28","v":0},{"$f":"'форма заказа'!K28","v":0},"","",{"$f":"IF(T19=\"х\",\"х\",'форма заказа'!M28)","v":""},{"$f":"IF($T19=\"х\",\"х\",'форма заказа'!N28)","v":0},{"$f":"IF($T19=\"х\",\"х\",'форма заказа'!O28)","v":0},{"$f":"IF($T19=\"х\",\"х\",'форма заказа'!P28)","v":0},{"$f":"IF($T19=\"х\",\"х\",'форма заказа'!Q28)","v":0},{"$f":"IF($T19=\"х\",\"х\",'форма заказа'!R28)","v":0},{"$f":"IF($T19=\"х\",\"х\",'форма заказа'!S28)","v":0},{"$f":"IF($T19=\"х\",\"х\",'форма заказа'!T28)","v":""},null,{"$f":"IF(AH19<>0,IF('форма заказа'!E28=\"прямой\",\"прямой профиль\",IF('форма заказа'!E28=\"скрытая\",\"скрытая ручка\",IF('форма заказа'!E28=\"высокая\",\"высокая ручка\"))),\"\")","v":""},{"$f":"'форма заказа'!G28","v":0},{"$f":"'форма заказа'!C28","v":0},{"$f":"'форма заказа'!D28","v":0},{"$f":"'форма заказа'!W28","v":0},{"$f":"'форма заказа'!L28","v":""},{"$f":"'форма заказа'!U28","v":""},"",0,0,"",0,0,"",0,0,"",0,0,"","",0,0]
[null,9,{"$f":"'форма заказа'!F29","v":0},{"$f":"'форма заказа'!C29","v":0},"","",{"$f":"'форма заказа'!D29","v":0},"","",0,0,0,{"$f":"IF('форма заказа'!H29=\"без вставки\",\"х\",AW20)","v":""},{"$f":"IF('форма заказа'!H29=\"без вставки\",\"х\",AX20)","v":""},{"$f":"IF('форма заказа'!H29=\"без вставки\",\"х\",IF('форма заказа'!V29=\"+\",\"ПВХ\",IF('форма заказа'!V29=\"-\",\"ХДФ\",\"\")))","v":""},{"$f":"'форма заказа'!I29","v":0},{"$f":"'форма заказа'!J29","v":0},{"$f":"'форма заказа'!K29","v":0},"","",{"$f":"IF(T20=\"х\",\"х\",'форма заказа'!M29)","v":""},{"$f":"IF($T20=\"х\",\"х\",'форма заказа'!N29)","v":0},{"$f":"IF($T20=\"х\",\"х\",'форма заказа'!O29)","v":0},{"$f":"IF($T20=\"х\",\"х\",'форма заказа'!P29)","v":0},{"$f":"IF($T20=\"х\",\"х\",'форма заказа'!Q29)","v":0},{"$f":"IF($T20=\"х\",\"х\",'форма заказа'!R29)","v":0},{"$f":"IF($T20=\"х\",\"х\",'форма заказа'!S29)","v":0},{"$f":"IF($T20=\"х\",\"х\",'форма заказа'!T29)","v":""},null,{"$f":"IF(AH20<>0,IF('форма заказа'!E29=\"прямой\",\"прямой профиль\",IF('форма заказа'!E29=\"скрытая\",\"скрытая ручка\",IF('форма заказа'!E29=\"высокая\",\"высокая ручка\"))),\"\")","v":""},{"$f":"'форма заказа'!G29","v":0},{"$f":"'форма заказа'!C29","v":0},{"$f":"'форма заказа'!D29","v":0},{"$f":"'форма заказа'!W29","v":0},{"$f":"'форма заказа'!L29","v":""},{"$f":"'форма заказа'!U29","v":""},"",0,0,"",0,0,"",0,0,"",0,0,"","",0,0]
[null,10,{"$f":"'форма заказа'!F30","v":0},{"$f":"'форма заказа'!C30","v":0},"","",{"$f":"'форма заказа'!D30","v":0},"","",0,0,0,{"$f":"IF('форма заказа'!H30=\"без вставки\",\"х\",AW21)","v":""},{"$f":"IF('форма заказа'!H30=\"без вставки\",\"х\",AX21)","v":""},{"$f":"IF('форма заказа'!H30=\"без вставки\",\"х\",IF('форма заказа'!V30=\"+\",\"ПВХ\",IF('форма заказа'!V30=\"-\",\"ХДФ\",\"\")))","v":""},{"$f":"'форма заказа'!I30","v":0},{"$f":"'форма заказа'!J30","v":0},{"$f":"'форма заказа'!K30","v":0},"","",{"$f":"IF(T21=\"х\",\"х\",'форма заказа'!M30)","v":""},{"$f":"IF($T21=\"х\",\"х\",'форма заказа'!N30)","v":0},{"$f":"IF($T21=\"х\",\"х\",'форма заказа'!O30)","v":0},{"$f":"IF($T21=\"х\",\"х\",'форма заказа'!P30)","v":0},{"$f":"IF($T21=\"х\",\"х\",'форма заказа'!Q30)","v":0},{"$f":"IF($T21=\"х\",\"х\",'форма заказа'!R30)","v":0},{"$f":"IF($T21=\"х\",\"х\",'форма заказа'!S30)","v":0},{"$f":"IF($T21=\"х\",\"х\",'форма заказа'!T30)","v":""},null,{"$f":"IF(AH21<>0,IF('форма заказа'!E30=\"прямой\",\"прямой профиль\",IF('форма заказа'!E30=\"скрытая\",\"скрытая ручка\",IF('форма заказа'!E30=\"высокая\",\"высокая ручка\"))),\"\")","v":""},{"$f":"'форма заказа'!G30","v":0},{"$f":"'форма заказа'!C30","v":0},{"$f":"'форма заказа'!D30","v":0},{"$f":"'форма заказа'!W30","v":0},{"$f":"'форма заказа'!L30","v":""},{"$f":"'форма заказа'!U30","v":""},"",0,0,"",0,0,"",0,0,"",0,0,"","",0,0]
[null,11,{"$f":"'форма заказа'!F31","v":0},{"$f":"'форма заказа'!C31","v":0},"","",{"$f":"'форма заказа'!D31","v":0},"","",0,0,0,{"$f":"IF('форма заказа'!H31=\"без вставки\",\"х\",AW22)","v":""},{"$f":"IF('форма заказа'!H31=\"без вставки\",\"х\",AX22)","v":""},{"$f":"IF('форма заказа'!H31=\"без вставки\",\"х\",IF('форма заказа'!V31=\"+\",\"ПВХ\",IF('форма заказа'!V31=\"-\",\"ХДФ\",\"\")))","v":""},{"$f":"'форма заказа'!I31","v":0},{"$f":"'форма заказа'!J31","v":0},{"$f":"'форма заказа'!K31","v":0},"","",{"$f":"IF(T22=\"х\",\"х\",'форма заказа'!M31)","v":""},{"$f":"IF($T22=\"х\",\"х\",'форма заказа'!N31)","v":0},{"$f":"IF($T22=\"х\",\"х\",'форма заказа'!O31)","v":0},{"$f":"IF($T22=\"х\",\"х\",'форма заказа'!P31)","v":0},{"$f":"IF($T22=\"х\",\"х\",'форма заказа'!Q31)","v":0},{"$f":"IF($T22=\"х\",\"х\",'форма заказа'!R31)","v":0},{"$f":"IF($T22=\"х\",\"х\",'форма заказа'!S31)","v":0},{"$f":"IF($T22=\"х\",\"х\",'форма заказа'!T31)","v":""},null,{"$f":"IF(AH22<>0,IF('форма заказа'!E31=\"прямой\",\"прямой профиль\",IF('форма заказа'!E31=\"скрытая\",\"скрытая ручка\",IF('форма заказа'!E31=\"высокая\",\"высокая ручка\"))),\"\")","v":""},{"$f":"'форма заказа'!G31","v":0},{"$f":"'форма заказа'!C31","v":0},{"$f":"'форма заказа'!D31","v":0},{"$f":"'форма заказа'!W31","v":0},{"$f":"'форма заказа'!L31","v":""},{"$f":"'форма заказа'!U31","v":""},"",0,0,"",0,0,"",0,0,"",0,0,"","",0,0]
[null,12,{"$f":"'форма заказа'!F32","v":0},{"$f":"'форма заказа'!C32","v":0},"","",{"$f":"'форма заказа'!D32","v":0},"","",0,0,0,{"$f":"IF('форма заказа'!H32=\"без вставки\",\"х\",AW23)","v":""},{"$f":"IF('форма заказа'!H32=\"без вставки\",\"х\",AX23)","v":""},{"$f":"IF('форма заказа'!H32=\"без вставки\",\"х\",IF('форма заказа'!V32=\"+\",\"ПВХ\",IF('форма заказа'!V32=\"-\",\"ХДФ\",\"\")))","v":""},{"$f":"'форма заказа'!I32","v":0},{"$f":"'форма заказа'!J32","v":0},{"$f":"'форма заказа'!K32","v":0},"","",{"$f":"IF(T23=\"х\",\"х\",'форма заказа'!M32)","v":""},{"$f":"IF($T23=\"х\",\"х\",'форма заказа'!N32)","v":0},{"$f":"IF($T23=\"х\",\"х\",'форма заказа'!O32)","v":0},{"$f":"IF($T23=\"х\",\"х\",'форма заказа'!P32)","v":0},{"$f":"IF($T23=\"х\",\"х\",'форма заказа'!Q32)","v":0},{"$f":"IF($T23=\"х\",\"х\",'форма заказа'!R32)","v":0},{"$f":"IF($T23=\"х\",\"х\",'форма заказа'!S32)","v":0},{"$f":"IF($T23=\"х\",\"х\",'форма заказа'!T32)","v":""},null,{"$f":"IF(AH23<>0,IF('форма заказа'!E32=\"прямой\",\"прямой профиль\",IF('форма заказа'!E32=\"скрытая\",\"скрытая ручка\",IF('форма заказа'!E32=\"высокая\",\"высокая ручка\"))),\"\")","v":""},{"$f":"'форма заказа'!G32","v":0},{"$f":"'форма заказа'!C32","v":0},{"$f":"'форма заказа'!D32","v":0},{"$f":"'форма заказа'!W32","v":0},{"$f":"'форма заказа'!L32","v":""},{"$f":"'форма заказа'!U32","v":""},"",0,0,"",0,0,"",0,0,"",0,0,"","",0,0]
[null,13,{"$f":"'форма заказа'!F33","v":0},{"$f":"'форма заказа'!C33","v":0},"","",{"$f":"'форма заказа'!D33","v":0},"","",0,0,0,{"$f":"IF('форма заказа'!H33=\"без вставки\",\"х\",AW24)","v":""},{"$f":"IF('форма заказа'!H33=\"без вставки\",\"х\",AX24)","v":""},{"$f":"IF('форма заказа'!H33=\"без вставки\",\"х\",IF('форма заказа'!V33=\"+\",\"ПВХ\",IF('форма заказа'!V33=\"-\",\"ХДФ\",\"\")))","v":""},{"$f":"'форма заказа'!I33","v":0},{"$f":"'форма заказа'!J33","v":0},{"$f":"'форма заказа'!K33","v":0},"","",{"$f":"IF(T24=\"х\",\"х\",'форма заказа'!M33)","v":""},{"$f":"IF($T24=\"х\",\"х\",'форма заказа'!N33)","v":0},{"$f":"IF($T24=\"х\",\"х\",'форма заказа'!O33)","v":0},{"$f":"IF($T24=\"х\",\"х\",'форма заказа'!P33)","v":0},{"$f":"IF($T24=\"х\",\"х\",'форма заказа'!Q33)","v":0},{"$f":"IF($T24=\"х\",\"х\",'форма заказа'!R33)","v":0},{"$f":"IF($T24=\"х\",\"х\",'форма заказа'!S33)","v":0},{"$f":"IF($T24=\"х\",\"х\",'форма заказа'!T33)","v":""},null,{"$f":"IF(AH24<>0,IF('форма заказа'!E33=\"прямой\",\"прямой профиль\",IF('форма заказа'!E33=\"скрытая\",\"скрытая ручка\",IF('форма заказа'!E33=\"высокая\",\"высокая ручка\"))),\"\")","v":""},{"$f":"'форма заказа'!G33","v":0},{"$f":"'форма заказа'!C33","v":0},{"$f":"'форма заказа'!D33","v":0},{"$f":"'форма заказа'!W33","v":0},{"$f":"'форма заказа'!L33","v":""},{"$f":"'форма заказа'!U33","v":""},"",0,0,"",0,0,"",0,0,"",0,0,"","",0,0]
[null,14,{"$f":"'форма заказа'!F34","v":0},{"$f":"'форма заказа'!C34","v":0},"","",{"$f":"'форма заказа'!D34","v":0},"","",0,0,0,{"$f":"IF('форма заказа'!H34=\"без вставки\",\"х\",AW25)","v":""},{"$f":"IF('форма заказа'!H34=\"без вставки\",\"х\",AX25)","v":""},{"$f":"IF('форма заказа'!H34=\"без вставки\",\"х\",IF('форма заказа'!V34=\"+\",\"ПВХ\",IF('форма заказа'!V34=\"-\",\"ХДФ\",\"\")))","v":""},{"$f":"'форма заказа'!I34","v":0},{"$f":"'форма заказа'!J34","v":0},{"$f":"'форма заказа'!K34","v":0},"","",{"$f":"IF(T25=\"х\",\"х\",'форма заказа'!M34)","v":""},{"$f":"IF($T25=\"х\",\"х\",'форма заказа'!N34)","v":0},{"$f":"IF($T25=\"х\",\"х\",'форма заказа'!O34)","v":0},{"$f":"IF($T25=\"х\",\"х\",'форма заказа'!P34)","v":0},{"$f":"IF($T25=\"х\",\"х\",'форма заказа'!Q34)","v":0},{"$f":"IF($T25=\"х\",\"х\",'форма заказа'!R34)","v":0},{"$f":"IF($T25=\"х\",\"х\",'форма заказа'!S34)","v":0},{"$f":"IF($T25=\"х\",\"х\",'форма заказа'!T34)","v":""},null,{"$f":"IF(AH25<>0,IF('форма заказа'!E34=\"прямой\",\"прямой профиль\",IF('форма заказа'!E34=\"скрытая\",\"скрытая ручка\",IF('форма заказа'!E34=\"высокая\",\"высокая ручка\"))),\"\")","v":""},{"$f":"'форма заказа'!G34","v":0},{"$f":"'форма заказа'!C34","v":0},{"$f":"'форма заказа'!D34","v":0},{"$f":"'форма заказа'!W34","v":0},{"$f":"'форма заказа'!L34","v":""},{"$f":"'форма заказа'!U34","v":""},"",0,0,"",0,0,"",0,0,"",0,0,"","",0,0]
[null,15,{"$f":"'форма заказа'!F35","v":0},{"$f":"'форма заказа'!C35","v":0},"","",{"$f":"'форма заказа'!D35","v":0},"","",0,0,0,{"$f":"IF('форма заказа'!H35=\"без вставки\",\"х\",AW26)","v":""},{"$f":"IF('форма заказа'!H35=\"без вставки\",\"х\",AX26)","v":""},{"$f":"IF('форма заказа'!H35=\"без вставки\",\"х\",IF('форма заказа'!V35=\"+\",\"ПВХ\",IF('форма заказа'!V35=\"-\",\"ХДФ\",\"\")))","v":""},{"$f":"'форма заказа'!I35","v":0},{"$f":"'форма заказа'!J35","v":0},{"$f":"'форма заказа'!K35","v":0},"","",{"$f":"IF(T26=\"х\",\"х\",'форма заказа'!M35)","v":""},{"$f":"IF($T26=\"х\",\"х\",'форма заказа'!N35)","v":0},{"$f":"IF($T26=\"х\",\"х\",'форма заказа'!O35)","v":0},{"$f":"IF($T26=\"х\",\"х\",'форма заказа'!P35)","v":0},{"$f":"IF($T26=\"х\",\"х\",'форма заказа'!Q35)","v":0},{"$f":"IF($T26=\"х\",\"х\",'форма заказа'!R35)","v":0},{"$f":"IF($T26=\"х\",\"х\",'форма заказа'!S35)","v":0},{"$f":"IF($T26=\"х\",\"х\",'форма заказа'!T35)","v":""},null,{"$f":"IF(AH26<>0,IF('форма заказа'!E35=\"прямой\",\"прямой профиль\",IF('форма заказа'!E35=\"скрытая\",\"скрытая ручка\",IF('форма заказа'!E35=\"высокая\",\"высокая ручка\"))),\"\")","v":""},{"$f":"'форма заказа'!G35","v":0},{"$f":"'форма заказа'!C35","v":0},{"$f":"'форма заказа'!D35","v":0},{"$f":"'форма заказа'!W35","v":0},{"$f":"'форма заказа'!L35","v":""},{"$f":"'форма заказа'!U35","v":""},"",0,0,"",0,0,"",0,0,"",0,0,"","",0,0]
[null,null,null,null,null,null,null,null,null,null,null,null,null,null,null,null,null,null,null,null,null,null,null,null,null,null,null,null,null,null,null,null,null,null,null,null,null,null,{"$f":"SUM(AM12:AM26)","v":0},null,null,{"$f":"SUM(AP12:AP26)","v":0},null,null,{"$f":"SUM(AS12:AS26)","v":0},null,null,{"$f":"SUM(AV12:AV26)","v":0},null,{"$f":"AM27+AP27+AS27+AV27+-T104","v":0}]
[]
[null,null,null,null,null,"Заказчик:",{"$f":"'форма заказа'!E3","v":0}]
[null,"* отмечены детали с присадками",null,null,null,null,null,null,"для скрытия нулевых строк воспользуйтесь автофильтром"]
[null,"№","длина заготовки, мм","кол-во","тип профиля","цвет профиля","№ заказа","принят \nв работу"]
[null,{"$f":"CONCATENATE(B12,\"A\",IF(T12=\"A\",\"*\",\"\"))","v":"1A"},{"$f":"K12","v":0},{"$f":"J12","v":0},{"$f":"E12","v":""},{"$f":"C12","v":0},{"$f":"IF(J12<>0,$E$3,\"\")","v":""}]
[null,"2A",0,0,"",0,{"$f":"IF(J13<>0,$E$3,\"\")","v":""}]
[null,"3A",0,0,"",0,""]
[null,"4A",0,0,"",0,""]
[null,"5A",0,0,"",0,""]
[null,"6A",0,0,"",0,""]
[null,"7A",0,0,"",0,""]
[null,"8A",0,0,"",0,""]
[null,"9A",0,0,"",0,""]
[null,"10A",0,0,"",0,""]
[null,"11A",0,0,"",0,""]
[null,"12A",0,0,"",0,""]
[null,"13A",0,0,"",0,""]
[null,"14A",0,0,"",0,""]
[null,"15A",0,0,"",0,""]
[null,{"$f":"CONCATENATE(B12,\"C\",IF(T12=\"C\",\"*\",\"\"))","v":"1C"},{"$f":"K12","v":0},{"$f":"J12","v":0},{"$f":"F12","v":""},{"$f":"C12","v":0},{"$f":"IF(J12<>0,$E$3,\"\")","v":""}]
[null,"2C",0,0,"",0,""]
[null,"3C",0,0,"",0,""]
[null,"4C",0,0,"",0,""]
[null,"5C",0,0,"",0,""]
[null,"6C",0,0,"",0,""]
[null,"7C",0,0,"",0,""]
[null,"8C",0,0,"",0,""]
[null,"9C",0,0,"",0,""]
[null,"10C",0,0,"",0,""]
[null,"11C",0,0,"",0,""]
[null,"12C",0,0,"",0,""]
[null,"13C",0,0,"",0,""]
[null,"14C",0,0,"",0,""]
[null,"15C",0,0,"",0,""]
[null,{"$f":"CONCATENATE(B12,\"B\",IF(T12=\"B\",\"*\",\"\"))","v":"1B"},{"$f":"L12","v":0},{"$f":"J12","v":0},{"$f":"H12","v":""},{"$f":"C12","v":0},{"$f":"IF(J12<>0,$E$3,\"\")","v":""}]
[null,"2B",0,0,"",0,""]
[null,"3B",0,0,"",0,""]
[null,"4B",0,0,"",0,""]
[null,"5B",0,0,"",0,""]
[null,"6B",0,0,"",0,""]
[null,"7B",0,0,"",0,""]
[null,"8B",0,0,"",0,""]
[null,"9B",0,0,"",0,""]
[null,"10B",0,0,"",0,""]
[null,"11B",0,0,"",0,""]
[null,"12B",0,0,"",0,""]
[null,"13B",0,0,"",0,""]
[null,"14B",0,0,"",0,""]
[null,"15B",0,0,"",0,""]
[null,{"$f":"CONCATENATE(B12,\"D\",IF(T12=\"D\",\"*\",\"\"))","v":"1D"},{"$f":"L12","v":0},{"$f":"J12","v":0},{"$f":"I12","v":""},{"$f":"C12","v":0},{"$f":"IF(J12<>0,$E$3,\"\")","v":""}]
[null,"2D",0,0,"",0,""]
[null,"3D",0,0,"",0,""]
[null,"4D",0,0,"",0,""]
[null,"5D",0,0,"",0,""]
[null,"6D",0,0,"",0,""]
[null,"7D",0,0,"",0,""]
[null,"8D",0,0,"",0,""]
[null,"9D",0,0,"",0,""]
[null,"10D",0,0,"",0,""]
[null,"11D",0,0,"",0,""]
[null,"12D",0,0,"",0,""]
[null,"13D",0,0,"",0,""]
[null,"14D",0,0,"",0,""]
[null,"15D",0,0,"",0,""]
[]
[null,"кол-во деталей:",null,{"$f":"SUM(D32:D91)","v":0},"кол-во рамок:",{"$f":"D93/4","v":0},null,"тип профиля","цвет профиля","артикул",null,null,null,null,null,null,null,null,null,"суммарная длина, мм","кол-во хлыстов, шт.",null,null,"остаток"]
[null,null,null,null,null,null,null,null,null,null,null,null,null,null,null,null,null,null,null,null,"расчет","факт"]
[null,"наименование ",null,null,"артикул","кол-во расчет","кол-во факт","высокая ручка","шампань","131176.6000C",null,null,null,null,null,null,null,null,null,{"$f":"(SUMIFS($AM$12:$AM$26,$AK$12:$AK$26,H95,$C$12:$C$26,I95)+\nSUMIFS($AP$12:$AP$26,$AN$12:$AN$26,H95,$C$12:$C$26,I95)+\nSUMIFS($AS$12:$AS$26,$AQ$12:$AQ$26,H95,$C$12:$C$26,I95)+\nSUMIFS($AV$12:$AV$26,$AT$12:$AT$26,H95,$C$12:$C$26,I95))","v":0},{"$f":"ROUNDUP(T95/6000,0)","v":0}]
[null,"Уголок сборочный, шт.",null,null,626,{"$f":"D93","v":0},null,"высокая ручка","черный","131176.6000B",null,null,null,null,null,null,null,null,null,{"$f":"(SUMIFS($AM$12:$AM$26,$AK$12:$AK$26,H96,$C$12:$C$26,I96)+\nSUMIFS($AP$12:$AP$26,$AN$12:$AN$26,H96,$C$12:$C$26,I96)+\nSUMIFS($AS$12:$AS$26,$AQ$12:$AQ$26,H96,$C$12:$C$26,I96)+\nSUMIFS($AV$12:$AV$26,$AT$12:$AT$26,H96,$C$12:$C$26,I96))","v":0},{"$f":"ROUNDUP(T96/6000,0)","v":0}]
[null,"Винт M4*8, шт.",null,null,"0089412005500",{"$f":"F96*2","v":0},null,"высокая ручка","серебро","131176.6000S",null,null,null,null,null,null,null,null,null,0,{"$f":"ROUNDUP(T97/6000,0)","v":0}]
[null,"Пенолин, м",null,null,"БП-00002818",{"$f":"SUM(AY12:AY26)*1.2","v":0},null,"скрытая ручка","шампань","131175.6000C",null,null,null,null,null,null,null,null,null,0,{"$f":"ROUNDUP(T98/6000,0)","v":0}]
[null,"Картон, м2",null,null,"00-00001782",{"$f":"SUM(AZ12:AZ26)","v":0},null,"скрытая ручка","черный","131175.6000B",null,null,null,null,null,null,null,null,null,0,{"$f":"ROUNDUP(T99/6000,0)","v":0}]
[null,null,null,null,null,null,null,"скрытая ручка","серебро","131175.6000S",null,null,null,null,null,null,null,null,null,0,{"$f":"ROUNDUP(T100/6000,0)","v":0}]
[null,null,null,null,null,null,null,"прямой профиль","шампань","131177.6000C",null,null,null,null,null,null,null,null,null,0,{"$f":"ROUNDUP(T101/6000,0)","v":0}]
[null,null,null,null,null,null,null,"прямой профиль","черный","131177.6000B",null,null,null,null,null,null,null,null,null,0,{"$f":"ROUNDUP(T102/6000,0)","v":0}]
[null,null,null,null,null,null,null,"прямой профиль","серебро","131177.6000S",null,null,null,null,null,null,null,null,null,0,{"$f":"ROUNDUP(T103/6000,0)","v":0}]
[null,null,null,null,null,null,null,null,null,null,null,null,null,null,null,null,null,null,null,{"$f":"SUM(T95:T103)","v":0}]

{"sheet":"вставка","index":5,"n_rows":48,"n_cols":48,"rows_kept":48,"cut":false,"hidden":true,"merged":[[1,2,1,3],[2,2,2,3],[3,2,3,3],[4,2,4,3],[5,2,5,3],[8,38,8,39],[8,40,8,41],[8,42,8,43],[45,1,45,2],[45,5,46,5],[8,4,8,5],[8,7,8,8],[8,10,8,11],[8,19,9,19],[8,20,9,20],[8,21,8,26],[8,27,9,27],[7,12,8,17],[2,5,6,9],[44,1,44,2],[46,1,46,2],[47,1,47,2],[8,36,8,37],[7,19,7,27]]}
[]
[null,null,"№ счета в 1с:",null,{"$f":"'форма заказа'!E2","v":0},"ПРИМЕЧАНИЕ К ЗАКАЗУ:"]
[null,null,"Заказчик:",null,{"$f":"'форма заказа'!E3","v":0},{"$f":"'форма заказа'!B8","v":0}]
[null,null,"Дата составления заказа:",null,{"$f":"'форма заказа'!E4","v":"00:00:00"}]
[null,null,"Дата согласования заказа:",null,{"$f":"'форма заказа'!E5","v":"00:00:00"}]
[null,null,"Дата выполнения заказа:",null,{"$f":"E5+20","v":"1900-01-20"}]
[]
[null,null,null,null,null,null,null,null,null,null,null,null,"вставка",null,null,null,null,null,null,"присадки"]
[null,null,null,null,"вид профиля",null,null,"вид профиля",null,null,"размеры заготовок, мм",null,null,null,null,null,null,null,null,"расположение присадок (по какой стороне)","кол-во присадок, шт.","расстояние до центра чашечки петли от низа ",null,null,null,null,null,"от края до центра чашечки петли",null,null,null,null,null,null,null,null,"A (слева)",null,"B (сверху)",null,"C (справа)",null,"D (снизу)"]
[null,null,"цвет профиля","высота фасада, мм","слева A","справа С","ширина фасада, мм","сверху B","снизу D","кол-во фасадов, шт.","высота A-C","ширина B-D","высота, мм","ширина, мм","основа","кожа лицевая сторона","прошивка (цвет нитки)","кожа оборотная сторона","закладная",null,null,"до n1","до n2","до n3","до n4","до n5","до n6",null,null,"тип профиля Laconic-S","положение \nвысокой ручки","высота \nфасада, мм","ширина \nфасада, мм","кол-во фасадов","тип фасада","закладная","тип профиля","размер","тип профиля","размер","тип профиля","размер","тип профиля","размер","высота вставки, мм","ширина вставки, мм","пвх","хдф"]
[null,1,{"$f":"'форма заказа'!F21","v":0},{"$f":"'форма заказа'!C21","v":0},{"$f":"AK11","v":""},{"$f":"AO11","v":""},{"$f":"'форма заказа'!D21","v":0},{"$f":"AM11","v":""},{"$f":"AQ11","v":""},{"$f":"AH11","v":0},{"$f":"AL11","v":0},{"$f":"AN11","v":0},{"$f":"IF('форма заказа'!H21=\"без вставки\",\"х\",AS11)","v":""},{"$f":"IF('форма заказа'!H21=\"без вставки\",\"х\",AT11)","v":""},{"$f":"IF('форма заказа'!H21=\"без вставки\",\"х\",IF('форма заказа'!V21=\"+\",\"ПВХ\",IF('форма заказа'!V21=\"-\",\"ХДФ\",\"\")))","v":""},{"$f":"'форма заказа'!I21","v":0},{"$f":"'форма заказа'!J21","v":0},{"$f":"'форма заказа'!K21","v":0},{"$f":"AJ11","v":""},{"$f":"IF(J11<>0,IF(AI11=\"левый\",\"A\",IF(AI11=\"правый\",\"C\",\"х\")),\"\")","v":""},{"$f":"'форма заказа'!M21","v":""},{"$f":"'форма заказа'!N21","v":0},{"$f":"'форма заказа'!O21","v":0},{"$f":"'форма заказа'!P21","v":0},{"$f":"'форма заказа'!Q21","v":0},{"$f":"'форма заказа'!R21","v":0},{"$f":"'форма заказа'!S21","v":0},{"$f":"'форма заказа'!T21","v":""},null,{"$f":"IF(AH11>0,IF('форма заказа'!E21=\"прямой\",\"прямой профиль\",IF('форма заказа'!E21=\"скрытая\",\"скрытая ручка\",IF('форма заказа'!E21=\"высокая\",\"высокая ручка\"))),\"\")","v":""},{"$f":"'форма заказа'!G21","v":0},{"$f":"'форма заказа'!C21","v":0},{"$f":"'форма заказа'!D21","v":0},{"$f":"'форма заказа'!W21","v":0},{"$f":"'форма заказа'!L21","v":""},{"$f":"'форма заказа'!U21","v":""},{"$f":"IF($AD11<>\"высокая ручка\",$AD11,IF(AND($AD11=\"высокая ручка\",$AE11=\"слева\"),$AD11,\"скрытая ручка\"))","v":""},{"$f":"IFERROR(IF(OR($AD11=\"прямой профиль\",$AD11=\"скрытая ручка\"),AF11,IF(AND($AD11=\"высокая ручка\",OR($AE11=\"сверху\",$AE11=\"снизу\")),AF11-27,AF11*1)),\"\")","v":0},{"$f":"IF($AD11<>\"высокая ручка\",$AD11,IF(AND($AD11=\"высокая ручка\",$AE11=\"сверху\"),$AD11,\"скрытая ручка\"))","v":""},{"$f":"IFERROR(IF(OR($AD11=\"прямой профиль\",$AD11=\"скрытая ручка\"),AG11,IF(AND($AD11=\"высокая ручка\",OR($AE11=\"справа\",$AE11=\"слева\")),AG11-27,AG11*1)),\"\")","v":0},{"$f":"IF($AD11<>\"высокая ручка\",$AD11,IF(AND($AD11=\"высокая ручка\",$AE11=\"справа\"),$AD11,\"скрытая ручка\"))","v":""},{"$f":"IFERROR(IF(OR($AD11=\"прямой профиль\",$AD11=\"скрытая ручка\"),AF11,IF(AND($AD11=\"высокая ручка\",OR($AE11=\"сверху\",$AE11=\"снизу\")),AF11-27,AF11*1)),\"\")","v":0},{"$f":"IF($AD11<>\"высокая ручка\",$AD11,IF(AND($AD11=\"высокая ручка\",$AE11=\"снизу\"),$AD11,\"скрытая ручка\"))","v":""},{"$f":"IFERROR(IF(OR($AD11=\"прямой профиль\",$AD11=\"скрытая ручка\"),AG11,IF(AND($AD11=\"высокая ручка\",OR($AE11=\"справа\",$AE11=\"слева\")),AG11-27,AG11*1)),\"\")","v":0},{"$f":"IF(AH11<>0,IFERROR(IF(OR($AD11=\"прямой профиль\",$AD11=\"скрытая ручка\"),AF11-2.5,IF(AND($AD11=\"высокая ручка\",OR($AE11=\"сверху\",$AE11=\"снизу\")),AF11-29.5,AF11-2.5)),\"\"),\"\")","v":""},{"$f":"IF(AH11<>0,IFERROR(IF(OR($AD11=\"прямой профиль\",$AD11=\"скрытая ручка\"),AG11-2.5,IF(AND($AD11=\"высокая ручка\",OR($AE11=\"справа\",$AE11=\"слева\")),AG11-29.5,AG11-2.5)),\"\"),\"\")","v":""},{"$f":"IF(O11=\"пвх\",AS11/1000*AT11/1000*2,0)","v":0},{"$f":"IF(O11=\"хдф\",AS11/1000*AT11/1000*2,0)","v":0}]
[null,2,{"$f":"'форма заказа'!F22","v":0},{"$f":"'форма заказа'!C22","v":0},{"$f":"AK12","v":""},{"$f":"AO12","v":""},{"$f":"'форма заказа'!D22","v":0},{"$f":"AM12","v":""},{"$f":"AQ12","v":""},{"$f":"AH12","v":0},{"$f":"AL12","v":0},{"$f":"AN12","v":0},{"$f":"IF('форма заказа'!H22=\"без вставки\",\"х\",AS12)","v":""},{"$f":"IF('форма заказа'!H22=\"без вставки\",\"х\",AT12)","v":""},{"$f":"IF('форма заказа'!H22=\"без вставки\",\"х\",IF('форма заказа'!V22=\"+\",\"ПВХ\",IF('форма заказа'!V22=\"-\",\"ХДФ\",\"\")))","v":""},{"$f":"'форма заказа'!I22","v":0},{"$f":"'форма заказа'!J22","v":0},{"$f":"'форма заказа'!K22","v":0},{"$f":"AJ12","v":""},"",{"$f":"'форма заказа'!M22","v":""},{"$f":"'форма заказа'!N22","v":0},{"$f":"'форма заказа'!O22","v":0},{"$f":"'форма заказа'!P22","v":0},{"$f":"'форма заказа'!Q22","v":0},{"$f":"'форма заказа'!R22","v":0},{"$f":"'форма заказа'!S22","v":0},{"$f":"'форма заказа'!T22","v":""},null,{"$f":"IF(AH12>0,IF('форма заказа'!E22=\"прямой\",\"прямой профиль\",IF('форма заказа'!E22=\"скрытая\",\"скрытая ручка\",IF('форма заказа'!E22=\"высокая\",\"высокая ручка\"))),\"\")","v":""},{"$f":"'форма заказа'!G22","v":0},{"$f":"'форма заказа'!C22","v":0},{"$f":"'форма заказа'!D22","v":0},{"$f":"'форма заказа'!W22","v":0},{"$f":"'форма заказа'!L22","v":""},{"$f":"'форма заказа'!U22","v":""},{"$f":"IF($AD12<>\"высокая ручка\",$AD12,IF(AND($AD12=\"высокая ручка\",$AE12=\"слева\"),$AD12,\"скрытая ручка\"))","v":""},0,{"$f":"IF($AD12<>\"высокая ручка\",$AD12,IF(AND($AD12=\"высокая ручка\",$AE12=\"сверху\"),$AD12,\"скрытая ручка\"))","v":""},0,{"$f":"IF($AD12<>\"высокая ручка\",$AD12,IF(AND($AD12=\"высокая ручка\",$AE12=\"справа\"),$AD12,\"скрытая ручка\"))","v":""},0,{"$f":"IF($AD12<>\"высокая ручка\",$AD12,IF(AND($AD12=\"высокая ручка\",$AE12=\"снизу\"),$AD12,\"скрытая ручка\"))","v":""},0,{"$f":"IF(AH12<>0,IFERROR(IF(OR($AD12=\"прямой профиль\",$AD12=\"скрытая ручка\"),AF12-2.5,IF(AND($AD12=\"высокая ручка\",OR($AE12=\"сверху\",$AE12=\"снизу\")),AF12-29.5,AF12-2.5)),\"\"),\"\")","v":""},{"$f":"IF(AH12<>0,IFERROR(IF(OR($AD12=\"прямой профиль\",$AD12=\"скрытая ручка\"),AG12-2.5,IF(AND($AD12=\"высокая ручка\",OR($AE12=\"справа\",$AE12=\"слева\")),AG12-29.5,AG12-2.5)),\"\"),\"\")","v":""},{"$f":"IF(O12=\"пвх\",AS12/1000*AT12/1000*2,0)","v":0},{"$f":"IF(O12=\"хдф\",AS12/1000*AT12/1000*2,0)","v":0}]
[null,3,{"$f":"'форма заказа'!F23","v":0},{"$f":"'форма заказа'!C23","v":0},"","",{"$f":"'форма заказа'!D23","v":0},"","",0,0,0,{"$f":"IF('форма заказа'!H23=\"без вставки\",\"х\",AS13)","v":""},{"$f":"IF('форма заказа'!H23=\"без вставки\",\"х\",AT13)","v":""},{"$f":"IF('форма заказа'!H23=\"без вставки\",\"х\",IF('форма заказа'!V23=\"+\",\"ПВХ\",IF('форма заказа'!V23=\"-\",\"ХДФ\",\"\")))","v":""},{"$f":"'форма заказа'!I23","v":0},{"$f":"'форма заказа'!J23","v":0},{"$f":"'форма заказа'!K23","v":0},"","",{"$f":"'форма заказа'!M23","v":""},{"$f":"'форма заказа'!N23","v":0},{"$f":"'форма заказа'!O23","v":0},{"$f":"'форма заказа'!P23","v":0},{"$f":"'форма заказа'!Q23","v":0},{"$f":"'форма заказа'!R23","v":0},{"$f":"'форма заказа'!S23","v":0},{"$f":"'форма заказа'!T23","v":""},null,{"$f":"IF(AH13>0,IF('форма заказа'!E23=\"прямой\",\"прямой профиль\",IF('форма заказа'!E23=\"скрытая\",\"скрытая ручка\",IF('форма заказа'!E23=\"высокая\",\"высокая ручка\"))),\"\")","v":""},{"$f":"'форма заказа'!G23","v":0},{"$f":"'форма заказа'!C23","v":0},{"$f":"'форма заказа'!D23","v":0},{"$f":"'форма заказа'!W23","v":0},{"$f":"'форма заказа'!L23","v":""},{"$f":"'форма заказа'!U23","v":""},"",0,"",0,"",0,"",0,"","",0,0]
[null,4,{"$f":"'форма заказа'!F24","v":0},{"$f":"'форма заказа'!C24","v":0},"","",{"$f":"'форма заказа'!D24","v":0},"","",0,0,0,{"$f":"IF('форма заказа'!H24=\"без вставки\",\"х\",AS14)","v":""},{"$f":"IF('форма заказа'!H24=\"без вставки\",\"х\",AT14)","v":""},{"$f":"IF('форма заказа'!H24=\"без вставки\",\"х\",IF('форма заказа'!V24=\"+\",\"ПВХ\",IF('форма заказа'!V24=\"-\",\"ХДФ\",\"\")))","v":""},{"$f":"'форма заказа'!I24","v":0},{"$f":"'форма заказа'!J24","v":0},{"$f":"'форма заказа'!K25","v":0},"","",{"$f":"'форма заказа'!M24","v":""},{"$f":"'форма заказа'!N24","v":0},{"$f":"'форма заказа'!O24","v":0},{"$f":"'форма заказа'!P24","v":0},{"$f":"'форма заказа'!Q24","v":0},{"$f":"'форма заказа'!R24","v":0},{"$f":"'форма заказа'!S24","v":0},{"$f":"'форма заказа'!T24","v":""},null,{"$f":"IF(AH14>0,IF('форма заказа'!E24=\"прямой\",\"прямой профиль\",IF('форма заказа'!E24=\"скрытая\",\"скрытая ручка\",IF('форма заказа'!E24=\"высокая\",\"высокая ручка\"))),\"\")","v":""},{"$f":"'форма заказа'!G24","v":0},{"$f":"'форма заказа'!C24","v":0},{"$f":"'форма заказа'!D24","v":0},{"$f":"'форма заказа'!W24","v":0},{"$f":"'форма заказа'!L24","v":""},{"$f":"'форма заказа'!U24","v":""},"",0,"",0,"",0,"",0,"","",0,0]
[null,5,{"$f":"'форма заказа'!F25","v":0},{"$f":"'форма заказа'!C25","v":0},"","",{"$f":"'форма заказа'!D25","v":0},"","",0,{"$f":"AL15","v":0},0,{"$f":"IF('форма заказа'!H25=\"без вставки\",\"х\",AS15)","v":""},{"$f":"IF('форма заказа'!H25=\"без вставки\",\"х\",AT15)","v":""},{"$f":"IF('форма заказа'!H25=\"без вставки\",\"х\",IF('форма заказа'!V25=\"+\",\"ПВХ\",IF('форма заказа'!V25=\"-\",\"ХДФ\",\"\")))","v":""},{"$f":"'форма заказа'!I25","v":0},{"$f":"'форма заказа'!J25","v":0},{"$f":"'форма заказа'!#REF!","v":{"$error":"#REF!"}},"","",{"$f":"'форма заказа'!M25","v":""},{"$f":"'форма заказа'!N25","v":0},{"$f":"'форма заказа'!O25","v":0},{"$f":"'форма заказа'!P25","v":0},{"$f":"'форма заказа'!Q25","v":0},{"$f":"'форма заказа'!R25","v":0},{"$f":"'форма заказа'!S25","v":0},{"$f":"'форма заказа'!T25","v":""},null,{"$f":"IF(AH15>0,IF('форма заказа'!E25=\"прямой\",\"прямой профиль\",IF('форма заказа'!E25=\"скрытая\",\"скрытая ручка\",IF('форма заказа'!E25=\"высокая\",\"высокая ручка\"))),\"\")","v":""},{"$f":"'форма заказа'!G25","v":0},{"$f":"'форма заказа'!C25","v":0},{"$f":"'форма заказа'!D25","v":0},{"$f":"'форма заказа'!W25","v":0},{"$f":"'форма заказа'!L25","v":""},{"$f":"'форма заказа'!U25","v":""},"",0,"",0,"",0,"",0,"","",0,0]
[null,6,{"$f":"'форма заказа'!F26","v":0},{"$f":"'форма заказа'!C26","v":0},"","",{"$f":"'форма заказа'!D26","v":0},"","",0,0,0,{"$f":"IF('форма заказа'!H26=\"без вставки\",\"х\",AS16)","v":""},{"$f":"IF('форма заказа'!H26=\"без вставки\",\"х\",AT16)","v":""},{"$f":"IF('форма заказа'!H26=\"без вставки\",\"х\",IF('форма заказа'!V26=\"+\",\"ПВХ\",IF('форма заказа'!V26=\"-\",\"ХДФ\",\"\")))","v":""},{"$f":"'форма заказа'!I26","v":0},{"$f":"'форма заказа'!J26","v":0},{"$f":"'форма заказа'!K26","v":0},"","",{"$f":"'форма заказа'!M26","v":""},{"$f":"'форма заказа'!N26","v":0},{"$f":"'форма заказа'!O26","v":0},{"$f":"'форма заказа'!P26","v":0},{"$f":"'форма заказа'!Q26","v":0},{"$f":"'форма заказа'!R26","v":0},{"$f":"'форма заказа'!S26","v":0},{"$f":"'форма заказа'!T26","v":""},null,{"$f":"IF(AH16>0,IF('форма заказа'!E26=\"прямой\",\"прямой профиль\",IF('форма заказа'!E26=\"скрытая\",\"скрытая ручка\",IF('форма заказа'!E26=\"высокая\",\"высокая ручка\"))),\"\")","v":""},{"$f":"'форма заказа'!G26","v":0},{"$f":"'форма заказа'!C26","v":0},{"$f":"'форма заказа'!D26","v":0},{"$f":"'форма заказа'!W26","v":0},{"$f":"'форма заказа'!L26","v":""},{"$f":"'форма заказа'!U26","v":""},"",0,"",0,"",0,"",0,"","",0,0]
[null,7,{"$f":"'форма заказа'!F27","v":0},{"$f":"'форма заказа'!C27","v":0},"","",{"$f":"'форма заказа'!D27","v":0},"","",0,0,0,{"$f":"IF('форма заказа'!H27=\"без вставки\",\"х\",AS17)","v":""},{"$f":"IF('форма заказа'!H27=\"без вставки\",\"х\",AT17)","v":""},{"$f":"IF('форма заказа'!H27=\"без вставки\",\"х\",IF('форма заказа'!V27=\"+\",\"ПВХ\",IF('форма заказа'!V27=\"-\",\"ХДФ\",\"\")))","v":""},{"$f":"'форма заказа'!I27","v":0},{"$f":"'форма заказа'!J27","v":0},{"$f":"'форма заказа'!K27","v":0},"","",{"$f":"'форма заказа'!M27","v":""},{"$f":"'форма заказа'!N27","v":0},{"$f":"'форма заказа'!O27","v":0},{"$f":"'форма заказа'!P27","v":0},{"$f":"'форма заказа'!Q27","v":0},{"$f":"'форма заказа'!R27","v":0},{"$f":"'форма заказа'!S27","v":0},{"$f":"'форма заказа'!T27","v":""},null,{"$f":"IF(AH17>0,IF('форма заказа'!E27=\"прямой\",\"прямой профиль\",IF('форма заказа'!E27=\"скрытая\",\"скрытая ручка\",IF('форма заказа'!E27=\"высокая\",\"высокая ручка\"))),\"\")","v":""},{"$f":"'форма заказа'!G27","v":0},{"$f":"'форма заказа'!C27","v":0},{"$f":"'форма заказа'!D27","v":0},{"$f":"'форма заказа'!W27","v":0},{"$f":"'форма заказа'!L27","v":""},{"$f":"'форма заказа'!U27","v":""},"",0,"",0,"",0,"",0,"","",0,0]
[null,8,{"$f":"'форма заказа'!F28","v":0},{"$f":"'форма заказа'!C28","v":0},"","",{"$f":"'форма заказа'!D28","v":0},"","",0,0,0,{"$f":"IF('форма заказа'!H28=\"без вставки\",\"х\",AS18)","v":""},{"$f":"IF('форма заказа'!H28=\"без вставки\",\"х\",AT18)","v":""},{"$f":"IF('форма заказа'!H28=\"без вставки\",\"х\",IF('форма заказа'!V28=\"+\",\"ПВХ\",IF('форма заказа'!V28=\"-\",\"ХДФ\",\"\")))","v":""},{"$f":"'форма заказа'!I28","v":0},{"$f":"'форма заказа'!J28","v":0},{"$f":"'форма заказа'!K28","v":0},"","",{"$f":"'форма заказа'!M28","v":""},{"$f":"'форма заказа'!N28","v":0},{"$f":"'форма заказа'!O28","v":0},{"$f":"'форма заказа'!P28","v":0},{"$f":"'форма заказа'!Q28","v":0},{"$f":"'форма заказа'!R28","v":0},{"$f":"'форма заказа'!S28","v":0},{"$f":"'форма заказа'!T28","v":""},null,{"$f":"IF(AH18>0,IF('форма заказа'!E28=\"прямой\",\"прямой профиль\",IF('форма заказа'!E28=\"скрытая\",\"скрытая ручка\",IF('форма заказа'!E28=\"высокая\",\"высокая ручка\"))),\"\")","v":""},{"$f":"'форма заказа'!G28","v":0},{"$f":"'форма заказа'!C28","v":0},{"$f":"'форма заказа'!D28","v":0},{"$f":"'форма заказа'!W28","v":0},{"$f":"'форма заказа'!L28","v":""},{"$f":"'форма заказа'!U28","v":""},"",0,"",0,"",0,"",0,"","",0,0]
[null,9,{"$f":"'форма заказа'!F29","v":0},{"$f":"'форма заказа'!C29","v":0},"","",{"$f":"'форма заказа'!D29","v":0},"","",0,0,0,{"$f":"IF('форма заказа'!H29=\"без вставки\",\"х\",AS19)","v":""},{"$f":"IF('форма заказа'!H29=\"без вставки\",\"х\",AT19)","v":""},{"$f":"IF('форма заказа'!H29=\"без вставки\",\"х\",IF('форма заказа'!V29=\"+\",\"ПВХ\",IF('форма заказа'!V29=\"-\",\"ХДФ\",\"\")))","v":""},{"$f":"'форма заказа'!I29","v":0},{"$f":"'форма заказа'!J29","v":0},{"$f":"'форма заказа'!K29","v":0},"","",{"$f":"'форма заказа'!M29","v":""},{"$f":"'форма заказа'!N29","v":0},{"$f":"'форма заказа'!O29","v":0},{"$f":"'форма заказа'!P29","v":0},{"$f":"'форма заказа'!Q29","v":0},{"$f":"'форма заказа'!R29","v":0},{"$f":"'форма заказа'!S29","v":0},{"$f":"'форма заказа'!T29","v":""},null,{"$f":"IF(AH19>0,IF('форма заказа'!E29=\"прямой\",\"прямой профиль\",IF('форма заказа'!E29=\"скрытая\",\"скрытая ручка\",IF('форма заказа'!E29=\"высокая\",\"высокая ручка\"))),\"\")","v":""},{"$f":"'форма заказа'!G29","v":0},{"$f":"'форма заказа'!C29","v":0},{"$f":"'форма заказа'!D29","v":0},{"$f":"'форма заказа'!W29","v":0},{"$f":"'форма заказа'!L29","v":""},{"$f":"'форма заказа'!U29","v":""},"",0,"",0,"",0,"",0,"","",0,0]
[null,10,{"$f":"'форма заказа'!F30","v":0},{"$f":"'форма заказа'!C30","v":0},"","",{"$f":"'форма заказа'!D30","v":0},"","",0,0,0,{"$f":"IF('форма заказа'!H30=\"без вставки\",\"х\",AS20)","v":""},{"$f":"IF('форма заказа'!H30=\"без вставки\",\"х\",AT20)","v":""},{"$f":"IF('форма заказа'!H30=\"без вставки\",\"х\",IF('форма заказа'!V30=\"+\",\"ПВХ\",IF('форма заказа'!V30=\"-\",\"ХДФ\",\"\")))","v":""},{"$f":"'форма заказа'!I30","v":0},{"$f":"'форма заказа'!J30","v":0},{"$f":"'форма заказа'!K30","v":0},"","",{"$f":"'форма заказа'!M30","v":""},{"$f":"'форма заказа'!N30","v":0},{"$f":"'форма заказа'!O30","v":0},{"$f":"'форма заказа'!P30","v":0},{"$f":"'форма заказа'!Q30","v":0},{"$f":"'форма заказа'!R30","v":0},{"$f":"'форма заказа'!S30","v":0},{"$f":"'форма заказа'!T30","v":""},null,{"$f":"IF(AH20>0,IF('форма заказа'!E30=\"прямой\",\"прямой профиль\",IF('форма заказа'!E30=\"скрытая\",\"скрытая ручка\",IF('форма заказа'!E30=\"высокая\",\"высокая ручка\"))),\"\")","v":""},{"$f":"'форма заказа'!G30","v":0},{"$f":"'форма заказа'!C30","v":0},{"$f":"'форма заказа'!D30","v":0},{"$f":"'форма заказа'!W30","v":0},{"$f":"'форма заказа'!L30","v":""},{"$f":"'форма заказа'!U30","v":""},"",0,"",0,"",0,"",0,"","",0,0]
[null,11,{"$f":"'форма заказа'!F31","v":0},{"$f":"'форма заказа'!C31","v":0},"","",{"$f":"'форма заказа'!D31","v":0},"","",0,0,0,{"$f":"IF('форма заказа'!H31=\"без вставки\",\"х\",AS21)","v":""},{"$f":"IF('форма заказа'!H31=\"без вставки\",\"х\",AT21)","v":""},{"$f":"IF('форма заказа'!H31=\"без вставки\",\"х\",IF('форма заказа'!V31=\"+\",\"ПВХ\",IF('форма заказа'!V31=\"-\",\"ХДФ\",\"\")))","v":""},{"$f":"'форма заказа'!I31","v":0},{"$f":"'форма заказа'!J31","v":0},{"$f":"'форма заказа'!K31","v":0},"","",{"$f":"'форма заказа'!M31","v":""},{"$f":"'форма заказа'!N31","v":0},{"$f":"'форма заказа'!O31","v":0},{"$f":"'форма заказа'!P31","v":0},{"$f":"'форма заказа'!Q31","v":0},{"$f":"'форма заказа'!R31","v":0},{"$f":"'форма заказа'!S31","v":0},{"$f":"'форма заказа'!T31","v":""},null,{"$f":"IF(AH21>0,IF('форма заказа'!E31=\"прямой\",\"прямой профиль\",IF('форма заказа'!E31=\"скрытая\",\"скрытая ручка\",IF('форма заказа'!E31=\"высокая\",\"высокая ручка\"))),\"\")","v":""},{"$f":"'форма заказа'!G31","v":0},{"$f":"'форма заказа'!C31","v":0},{"$f":"'форма заказа'!D31","v":0},{"$f":"'форма заказа'!W31","v":0},{"$f":"'форма заказа'!L31","v":""},{"$f":"'форма заказа'!U31","v":""},"",0,"",0,"",0,"",0,"","",0,0]
[null,12,{"$f":"'форма заказа'!F32","v":0},{"$f":"'форма заказа'!C32","v":0},"","",{"$f":"'форма заказа'!D32","v":0},"","",0,0,0,{"$f":"IF('форма заказа'!H32=\"без вставки\",\"х\",AS22)","v":""},{"$f":"IF('форма заказа'!H32=\"без вставки\",\"х\",AT22)","v":""},{"$f":"IF('форма заказа'!H32=\"без вставки\",\"х\",IF('форма заказа'!V32=\"+\",\"ПВХ\",IF('форма заказа'!V32=\"-\",\"ХДФ\",\"\")))","v":""},{"$f":"'форма заказа'!I32","v":0},{"$f":"'форма заказа'!J32","v":0},{"$f":"'форма заказа'!K32","v":0},"","",{"$f":"'форма заказа'!M32","v":""},{"$f":"'форма заказа'!N32","v":0},{"$f":"'форма заказа'!O32","v":0},{"$f":"'форма заказа'!P32","v":0},{"$f":"'форма заказа'!Q32","v":0},{"$f":"'форма заказа'!R32","v":0},{"$f":"'форма заказа'!S32","v":0},{"$f":"'форма заказа'!T32","v":""},null,{"$f":"IF(AH22>0,IF('форма заказа'!E32=\"прямой\",\"прямой профиль\",IF('форма заказа'!E32=\"скрытая\",\"скрытая ручка\",IF('форма заказа'!E32=\"высокая\",\"высокая ручка\"))),\"\")","v":""},{"$f":"'форма заказа'!G32","v":0},{"$f":"'форма заказа'!C32","v":0},{"$f":"'форма заказа'!D32","v":0},{"$f":"'форма заказа'!W32","v":0},{"$f":"'форма заказа'!L32","v":""},{"$f":"'форма заказа'!U32","v":""},"",0,"",0,"",0,"",0,"","",0,0]
[null,13,{"$f":"'форма заказа'!F33","v":0},{"$f":"'форма заказа'!C33","v":0},"","",{"$f":"'форма заказа'!D33","v":0},"","",0,0,0,{"$f":"IF('форма заказа'!H33=\"без вставки\",\"х\",AS23)","v":""},{"$f":"IF('форма заказа'!H33=\"без вставки\",\"х\",AT23)","v":""},{"$f":"IF('форма заказа'!H33=\"без вставки\",\"х\",IF('форма заказа'!V33=\"+\",\"ПВХ\",IF('форма заказа'!V33=\"-\",\"ХДФ\",\"\")))","v":""},{"$f":"'форма заказа'!I33","v":0},{"$f":"'форма заказа'!J33","v":0},{"$f":"'форма заказа'!K33","v":0},"","",{"$f":"'форма заказа'!M33","v":""},{"$f":"'форма заказа'!N33","v":0},{"$f":"'форма заказа'!O33","v":0},{"$f":"'форма заказа'!P33","v":0},{"$f":"'форма заказа'!Q33","v":0},{"$f":"'форма заказа'!R33","v":0},{"$f":"'форма заказа'!S33","v":0},{"$f":"'форма заказа'!T33","v":""},null,{"$f":"IF(AH23>0,IF('форма заказа'!E33=\"прямой\",\"прямой профиль\",IF('форма заказа'!E33=\"скрытая\",\"скрытая ручка\",IF('форма заказа'!E33=\"высокая\",\"высокая ручка\"))),\"\")","v":""},{"$f":"'форма заказа'!G33","v":0},{"$f":"'форма заказа'!C33","v":0},{"$f":"'форма заказа'!D33","v":0},{"$f":"'форма заказа'!W33","v":0},{"$f":"'форма заказа'!L33","v":""},{"$f":"'форма заказа'!U33","v":""},"",0,"",0,"",0,"",0,"","",0,0]
[null,14,{"$f":"'форма заказа'!F34","v":0},{"$f":"'форма заказа'!C34","v":0},"","",{"$f":"'форма заказа'!D34","v":0},"","",0,0,0,{"$f":"IF('форма заказа'!H34=\"без вставки\",\"х\",AS24)","v":""},{"$f":"IF('форма заказа'!H34=\"без вставки\",\"х\",AT24)","v":""},{"$f":"IF('форма заказа'!H34=\"без вставки\",\"х\",IF('форма заказа'!V34=\"+\",\"ПВХ\",IF('форма заказа'!V34=\"-\",\"ХДФ\",\"\")))","v":""},{"$f":"'форма заказа'!I34","v":0},{"$f":"'форма заказа'!J34","v":0},{"$f":"'форма заказа'!K34","v":0},"","",{"$f":"'форма заказа'!M34","v":""},{"$f":"'форма заказа'!N34","v":0},{"$f":"'форма заказа'!O34","v":0},{"$f":"'форма заказа'!P34","v":0},{"$f":"'форма заказа'!Q34","v":0},{"$f":"'форма заказа'!R34","v":0},{"$f":"'форма заказа'!S34","v":0},{"$f":"'форма заказа'!T34","v":""},null,{"$f":"IF(AH24>0,IF('форма заказа'!E34=\"прямой\",\"прямой профиль\",IF('форма заказа'!E34=\"скрытая\",\"скрытая ручка\",IF('форма заказа'!E34=\"высокая\",\"высокая ручка\"))),\"\")","v":""},{"$f":"'форма заказа'!G34","v":0},{"$f":"'форма заказа'!C34","v":0},{"$f":"'форма заказа'!D34","v":0},{"$f":"'форма заказа'!W34","v":0},{"$f":"'форма заказа'!L34","v":""},{"$f":"'форма заказа'!U34","v":""},"",0,"",0,"",0,"",0,"","",0,0]
[null,15,{"$f":"'форма заказа'!F35","v":0},{"$f":"'форма заказа'!C35","v":0},"","",{"$f":"'форма заказа'!D35","v":0},"","",0,0,0,{"$f":"IF('форма заказа'!H35=\"без вставки\",\"х\",AS25)","v":""},{"$f":"IF('форма заказа'!H35=\"без вставки\",\"х\",AT25)","v":""},{"$f":"IF('форма заказа'!H35=\"без вставки\",\"х\",IF('форма заказа'!V35=\"+\",\"ПВХ\",IF('форма заказа'!V35=\"-\",\"ХДФ\",\"\")))","v":""},{"$f":"'форма заказа'!I35","v":0},{"$f":"'форма заказа'!J35","v":0},{"$f":"'форма заказа'!K35","v":0},"","",{"$f":"'форма заказа'!M35","v":""},{"$f":"'форма заказа'!N35","v":0},{"$f":"'форма заказа'!O35","v":0},{"$f":"'форма заказа'!P35","v":0},{"$f":"'форма заказа'!Q35","v":0},{"$f":"'форма заказа'!R35","v":0},{"$f":"'форма заказа'!S35","v":0},{"$f":"'форма заказа'!T35","v":""},null,{"$f":"IF(AH25>0,IF('форма заказа'!E35=\"прямой\",\"прямой профиль\",IF('форма заказа'!E35=\"скрытая\",\"скрытая ручка\",IF('форма заказа'!E35=\"высокая\",\"высокая ручка\"))),\"\")","v":""},{"$f":"'форма заказа'!G35","v":0},{"$f":"'форма заказа'!C35","v":0},{"$f":"'форма заказа'!D35","v":0},{"$f":"'форма заказа'!W35","v":0},{"$f":"'форма заказа'!L35","v":""},{"$f":"'форма заказа'!U35","v":""},"",0,"",0,"",0,"",0,"","",0,0]
[]
[]
[null,"№","Артикул","Цвет кожи \n(лицо/оборот)","Высота вставки, мм","Ширина вставки, мм","Цвет \nнитки","Основание вставки","Кол-во фасадов, шт","Плановый расход кожи с учетом подгиба,\n м кв.","Факт. расход кожи, м п."]
[null,1,{"$f":"IFERROR(VLOOKUP(D29,список!$B$3:$C$27,2,0),\"\")","v":""},{"$f":"P11","v":0},{"$f":"M11","v":""},{"$f":"N11","v":""},{"$f":"Q11","v":0},{"$f":"O11","v":""},{"$f":"J11","v":0},{"$f":"IFERROR((E29+50)/1000*(F29+50)/1000*2*I29,\"\")","v":""}]
[null,2,{"$f":"IFERROR(VLOOKUP(D30,список!$B$3:$C$27,2,0),\"\")","v":""},{"$f":"P12","v":0},{"$f":"M12","v":""},"",{"$f":"Q12","v":0},{"$f":"O12","v":""},{"$f":"J12","v":0},{"$f":"IFERROR((E30+50)/1000*(F30+50)/1000*2*I30,\"\")","v":""}]
[null,3,{"$f":"IFERROR(VLOOKUP(D31,список!$B$3:$C$27,2,0),\"\")","v":""},0,{"$f":"M13","v":""},"",0,"",0,""]
[null,4,{"$f":"IFERROR(VLOOKUP(D32,список!$B$3:$C$27,2,0),\"\")","v":""},0,{"$f":"M14","v":""},"",0,"",0,""]
[null,5,{"$f":"IFERROR(VLOOKUP(D33,список!$B$3:$C$27,2,0),\"\")","v":""},0,{"$f":"M15","v":""},"",0,"",0,""]
[null,6,{"$f":"IFERROR(VLOOKUP(D34,список!$B$3:$C$27,2,0),\"\")","v":""},0,{"$f":"M16","v":""},"",0,"",0,""]
[null,7,{"$f":"IFERROR(VLOOKUP(D35,список!$B$3:$C$27,2,0),\"\")","v":""},0,{"$f":"M17","v":""},"",0,"",0,""]
[null,8,{"$f":"IFERROR(VLOOKUP(D36,список!$B$3:$C$27,2,0),\"\")","v":""},0,{"$f":"M18","v":""},"",0,"",0,""]
[null,9,{"$f":"IFERROR(VLOOKUP(D37,список!$B$3:$C$27,2,0),\"\")","v":""},0,{"$f":"M19","v":""},"",0,"",0,""]
[null,10,{"$f":"IFERROR(VLOOKUP(D38,список!$B$3:$C$27,2,0),\"\")","v":""},0,{"$f":"M20","v":""},"",0,"",0,""]
[null,11,{"$f":"IFERROR(VLOOKUP(D39,список!$B$3:$C$27,2,0),\"\")","v":""},0,{"$f":"M21","v":""},"",0,"",0,""]
[null,12,{"$f":"IFERROR(VLOOKUP(D40,список!$B$3:$C$27,2,0),\"\")","v":""},0,{"$f":"M22","v":""},"",0,"",0,""]
[null,13,{"$f":"IFERROR(VLOOKUP(D41,список!$B$3:$C$27,2,0),\"\")","v":""},0,{"$f":"M23","v":""},"",0,"",0,""]
[null,14,{"$f":"IFERROR(VLOOKUP(D42,список!$B$3:$C$27,2,0),\"\")","v":""},0,{"$f":"M24","v":""},"",0,"",0,""]
[null,15,{"$f":"IFERROR(VLOOKUP(D43,список!$B$3:$C$27,2,0),\"\")","v":""},0,{"$f":"M25","v":""},"",0,"",0,""]
[null,null,null,null,null,null,null,null,{"$f":"SUM(I29:I43)","v":0},{"$f":"SUM(J29:J43)","v":0}]
[null,"Артикул",null,"Основа","ед. изм. ","Плановый \nрасход","Фактический расход"]
[null,1700194,null,"ДВП","м кв.",{"$f":"SUM(AV11:AV25)","v":0}]
[null,null,null,"ХДФ","м кв."]
[null,{"$f":"CONCATENATE(\"0002443\")","v":"0002443"},null,"ПВХ","м. кв",{"$f":"SUM(AU11:AU25)","v":0}]